BEGIN:VCALENDAR
VERSION:2.0
PRODID:-//Island Pickle - ECPv6.15.18//NONSGML v1.0//EN
CALSCALE:GREGORIAN
METHOD:PUBLISH
X-WR-CALNAME:Island Pickle
X-ORIGINAL-URL:https://islandpickle.com
X-WR-CALDESC:Events for Island Pickle
REFRESH-INTERVAL;VALUE=DURATION:PT1H
X-Robots-Tag:noindex
X-PUBLISHED-TTL:PT1H
BEGIN:VTIMEZONE
TZID:America/New_York
BEGIN:DAYLIGHT
TZOFFSETFROM:-0500
TZOFFSETTO:-0400
TZNAME:EDT
DTSTART:20250309T070000
END:DAYLIGHT
BEGIN:STANDARD
TZOFFSETFROM:-0400
TZOFFSETTO:-0500
TZNAME:EST
DTSTART:20251102T060000
END:STANDARD
BEGIN:DAYLIGHT
TZOFFSETFROM:-0500
TZOFFSETTO:-0400
TZNAME:EDT
DTSTART:20260308T070000
END:DAYLIGHT
BEGIN:STANDARD
TZOFFSETFROM:-0400
TZOFFSETTO:-0500
TZNAME:EST
DTSTART:20261101T060000
END:STANDARD
BEGIN:DAYLIGHT
TZOFFSETFROM:-0500
TZOFFSETTO:-0400
TZNAME:EDT
DTSTART:20270314T070000
END:DAYLIGHT
BEGIN:STANDARD
TZOFFSETFROM:-0400
TZOFFSETTO:-0500
TZNAME:EST
DTSTART:20271107T060000
END:STANDARD
END:VTIMEZONE
BEGIN:VEVENT
DTSTART;TZID=America/New_York:20260420T180000
DTEND;TZID=America/New_York:20260420T200000
DTSTAMP:20260420T025507
CREATED:20260320T141301Z
LAST-MODIFIED:20260320T141301Z
UID:10000819-1776708000-1776715200@islandpickle.com
SUMMARY:Trivia with Lemonadio
DESCRIPTION:Join us for a fun night of trivia with Lemonadio! Bring your friends\, make a team\, win fun prizes!
URL:https://islandpickle.com/event/trivia-with-lemonadio/2026-04-20/
END:VEVENT
BEGIN:VEVENT
DTSTART;TZID=America/New_York:20260420T180000
DTEND;TZID=America/New_York:20260420T200000
DTSTAMP:20260420T025507
CREATED:20260325T003704Z
LAST-MODIFIED:20260325T003704Z
UID:10001353-1776708000-1776715200@islandpickle.com
SUMMARY:Cribbage Night at Island Pickle
DESCRIPTION:Join us for a fun\, friendly and FREE Cribbage Night at Island Pickle every Monday from 6:00-8:00pm.  Open to the public and everyone is welcome. We’ll be playing a casual round-robin format where you’ll face multiple opponents and compete for the top spot of the night with the winner receiving a prize. Matches are quick\, competitive\, and perfect for a great evening out. \nOpen to the public so grab a friend (or two) and come enjoy some cards\, laughs\, and a little friendly competition. But seats are limited to the first 10 players who sign up. We’re playing in the Tavern so food (and drink) is available. See you at the tables!
URL:https://islandpickle.com/event/cribbage-night-at-island-pickle/2026-04-20/
LOCATION:Island Pickle\, 51 Evergreen Circle\, Mashpee\, MA\, 02649\, United States
END:VEVENT
END:VCALENDAR