BEGIN:VCALENDAR
VERSION:2.0
PRODID:-//Island Pickle - ECPv6.15.18//NONSGML v1.0//EN
CALSCALE:GREGORIAN
METHOD:PUBLISH
X-ORIGINAL-URL:https://islandpickle.com
X-WR-CALDESC:Events for Island Pickle
REFRESH-INTERVAL;VALUE=DURATION:PT1H
X-Robots-Tag:noindex
X-PUBLISHED-TTL:PT1H
BEGIN:VTIMEZONE
TZID:America/New_York
BEGIN:DAYLIGHT
TZOFFSETFROM:-0500
TZOFFSETTO:-0400
TZNAME:EDT
DTSTART:20250309T070000
END:DAYLIGHT
BEGIN:STANDARD
TZOFFSETFROM:-0400
TZOFFSETTO:-0500
TZNAME:EST
DTSTART:20251102T060000
END:STANDARD
BEGIN:DAYLIGHT
TZOFFSETFROM:-0500
TZOFFSETTO:-0400
TZNAME:EDT
DTSTART:20260308T070000
END:DAYLIGHT
BEGIN:STANDARD
TZOFFSETFROM:-0400
TZOFFSETTO:-0500
TZNAME:EST
DTSTART:20261101T060000
END:STANDARD
BEGIN:DAYLIGHT
TZOFFSETFROM:-0500
TZOFFSETTO:-0400
TZNAME:EDT
DTSTART:20270314T070000
END:DAYLIGHT
BEGIN:STANDARD
TZOFFSETFROM:-0400
TZOFFSETTO:-0500
TZNAME:EST
DTSTART:20271107T060000
END:STANDARD
END:VTIMEZONE
BEGIN:VEVENT
DTSTART;TZID=America/New_York:20260502T160000
DTEND;TZID=America/New_York:20260502T200000
DTSTAMP:20260423T124911
CREATED:20260320T142917Z
LAST-MODIFIED:20260421T200314Z
UID:10000822-1777737600-1777752000@islandpickle.com
SUMMARY:Kentucky Derby Watch Party
DESCRIPTION:Join us on the Island for the Kentucky Derby Watch Party! \nBulleit Bourbon will be here from 4:00-6:00pm with tastings\, special cocktails\, swag giveaways and lots more fun. Dress in your best Kentucky Derby-inspired outfits and compete in our “Best Dressed” awards. Island Pickle will be running other Kentucky Derby-inspired food and drink specials. Get in the Island Pickle Kentucky Derby “Blind Draw” pool for a chance to win prizes! \n \n 
URL:https://islandpickle.com/event/kentucky-derby/
END:VEVENT
BEGIN:VEVENT
DTSTART;TZID=America/New_York:20260502T183000
DTEND;TZID=America/New_York:20260502T213000
DTSTAMP:20260423T124911
CREATED:20260422T201833Z
LAST-MODIFIED:20260422T201833Z
UID:10001688-1777746600-1777757400@islandpickle.com
SUMMARY:Live Music with Eddie Crownshaw
DESCRIPTION:
URL:https://islandpickle.com/event/live-music-with-eddie-crownshaw/
LOCATION:Island Pickle\, 51 Evergreen Circle\, Mashpee\, MA\, 02649\, United States
END:VEVENT
BEGIN:VEVENT
DTSTART;TZID=America/New_York:20260502T190000
DTEND;TZID=America/New_York:20260502T210000
DTSTAMP:20260423T124911
CREATED:20260324T214036Z
LAST-MODIFIED:20260324T214036Z
UID:10001094-1777748400-1777755600@islandpickle.com
SUMMARY:Saturday Night Live... at the Island
DESCRIPTION:Looking for something new and fun to do on a Saturday Night? Come have fun on the Island for our Saturday Night Live event! Join us for a high-energy\, open play night with music in a fun and lively social atmosphere. This is a 21+ event. Entry includes one drink ticket. Equipment rentals are available. Come learn or watch pickleball in a fun atmosphere\, hang around for food and drink! Sign up using the Island Pickle app which is located on the homepage of Island Pickle
URL:https://islandpickle.com/event/saturday-night-live-at-the-island/2026-05-02/
LOCATION:Island Pickle\, 51 Evergreen Circle\, Mashpee\, MA\, 02649\, United States
END:VEVENT
END:VCALENDAR