BEGIN:VCALENDAR
VERSION:2.0
PRODID:-//Island Pickle - ECPv6.15.20//NONSGML v1.0//EN
CALSCALE:GREGORIAN
METHOD:PUBLISH
X-WR-CALNAME:Island Pickle
X-ORIGINAL-URL:https://islandpickle.com
X-WR-CALDESC:Events for Island Pickle
REFRESH-INTERVAL;VALUE=DURATION:PT1H
X-Robots-Tag:noindex
X-PUBLISHED-TTL:PT1H
BEGIN:VTIMEZONE
TZID:America/New_York
BEGIN:DAYLIGHT
TZOFFSETFROM:-0500
TZOFFSETTO:-0400
TZNAME:EDT
DTSTART:20250309T070000
END:DAYLIGHT
BEGIN:STANDARD
TZOFFSETFROM:-0400
TZOFFSETTO:-0500
TZNAME:EST
DTSTART:20251102T060000
END:STANDARD
BEGIN:DAYLIGHT
TZOFFSETFROM:-0500
TZOFFSETTO:-0400
TZNAME:EDT
DTSTART:20260308T070000
END:DAYLIGHT
BEGIN:STANDARD
TZOFFSETFROM:-0400
TZOFFSETTO:-0500
TZNAME:EST
DTSTART:20261101T060000
END:STANDARD
BEGIN:DAYLIGHT
TZOFFSETFROM:-0500
TZOFFSETTO:-0400
TZNAME:EDT
DTSTART:20270314T070000
END:DAYLIGHT
BEGIN:STANDARD
TZOFFSETFROM:-0400
TZOFFSETTO:-0500
TZNAME:EST
DTSTART:20271107T060000
END:STANDARD
END:VTIMEZONE
BEGIN:VEVENT
DTSTART;TZID=America/New_York:20260120T180000
DTEND;TZID=America/New_York:20260120T210000
DTSTAMP:20260424T112232
CREATED:20260102T153922Z
LAST-MODIFIED:20260107T212847Z
UID:10000003-1768932000-1768942800@islandpickle.com
SUMMARY:Cornhole Tuesdays with Mixed Nuts
DESCRIPTION:Join us for Cornhole every Tuesday – hosted by Mixed Nuts! Open to the public – the first 28 people (2 man teams) who sign up will play. \n$15 per player \nDownload the Scoreholio app and sign up your team today! \n  \n 
URL:https://islandpickle.com/event/cornhole-tuesdays-with-mixed-nuts/2026-01-20/
END:VEVENT
BEGIN:VEVENT
DTSTART;TZID=America/New_York:20260117T120000
DTEND;TZID=America/New_York:20260118T200000
DTSTAMP:20260424T112232
CREATED:20260107T204027Z
LAST-MODIFIED:20260107T204522Z
UID:10000268-1768651200-1768766400@islandpickle.com
SUMMARY:Zebra Stripe Weekend
DESCRIPTION:Come on down and watch all the NFL Playoff Games in the Tavern on our 30+ TVs. Lots of great specials\, plus we will be featuring Mixed Drink alternatives for Dry January. Enter to win grat prizes from our suppliers!
URL:https://islandpickle.com/event/zebra-stripe-weekend/
END:VEVENT
BEGIN:VEVENT
DTSTART;TZID=America/New_York:20260113T180000
DTEND;TZID=America/New_York:20260113T210000
DTSTAMP:20260424T112232
CREATED:20260102T153922Z
LAST-MODIFIED:20260107T212847Z
UID:10000266-1768327200-1768338000@islandpickle.com
SUMMARY:Cornhole Tuesdays with Mixed Nuts
DESCRIPTION:Join us for Cornhole every Tuesday – hosted by Mixed Nuts! Open to the public – the first 28 people (2 man teams) who sign up will play. \n$15 per player \nDownload the Scoreholio app and sign up your team today! \n  \n 
URL:https://islandpickle.com/event/cornhole-tuesdays-with-mixed-nuts/2026-01-13/
END:VEVENT
END:VCALENDAR