BEGIN:VCALENDAR
VERSION:2.0
PRODID:-//Island Pickle - ECPv6.15.18//NONSGML v1.0//EN
CALSCALE:GREGORIAN
METHOD:PUBLISH
X-WR-CALNAME:Island Pickle
X-ORIGINAL-URL:https://islandpickle.com
X-WR-CALDESC:Events for Island Pickle
REFRESH-INTERVAL;VALUE=DURATION:PT1H
X-Robots-Tag:noindex
X-PUBLISHED-TTL:PT1H
BEGIN:VTIMEZONE
TZID:America/New_York
BEGIN:DAYLIGHT
TZOFFSETFROM:-0500
TZOFFSETTO:-0400
TZNAME:EDT
DTSTART:20250309T070000
END:DAYLIGHT
BEGIN:STANDARD
TZOFFSETFROM:-0400
TZOFFSETTO:-0500
TZNAME:EST
DTSTART:20251102T060000
END:STANDARD
BEGIN:DAYLIGHT
TZOFFSETFROM:-0500
TZOFFSETTO:-0400
TZNAME:EDT
DTSTART:20260308T070000
END:DAYLIGHT
BEGIN:STANDARD
TZOFFSETFROM:-0400
TZOFFSETTO:-0500
TZNAME:EST
DTSTART:20261101T060000
END:STANDARD
BEGIN:DAYLIGHT
TZOFFSETFROM:-0500
TZOFFSETTO:-0400
TZNAME:EDT
DTSTART:20270314T070000
END:DAYLIGHT
BEGIN:STANDARD
TZOFFSETFROM:-0400
TZOFFSETTO:-0500
TZNAME:EST
DTSTART:20271107T060000
END:STANDARD
BEGIN:DAYLIGHT
TZOFFSETFROM:-0500
TZOFFSETTO:-0400
TZNAME:EDT
DTSTART:20280312T070000
END:DAYLIGHT
BEGIN:STANDARD
TZOFFSETFROM:-0400
TZOFFSETTO:-0500
TZNAME:EST
DTSTART:20281105T060000
END:STANDARD
END:VTIMEZONE
BEGIN:VEVENT
DTSTART;TZID=America/New_York:20261201T180000
DTEND;TZID=America/New_York:20261201T210000
DTSTAMP:20260422T180956
CREATED:20260102T153922Z
LAST-MODIFIED:20260107T212847Z
UID:10000048-1796148000-1796158800@islandpickle.com
SUMMARY:Cornhole Tuesdays with Mixed Nuts
DESCRIPTION:Join us for Cornhole every Tuesday – hosted by Mixed Nuts! Open to the public – the first 28 people (2 man teams) who sign up will play. \n$15 per player \nDownload the Scoreholio app and sign up your team today! \n  \n 
URL:https://islandpickle.com/event/cornhole-tuesdays-with-mixed-nuts/2026-12-01/
LOCATION:MA
END:VEVENT
BEGIN:VEVENT
DTSTART;TZID=America/New_York:20261205T190000
DTEND;TZID=America/New_York:20261205T210000
DTSTAMP:20260422T180956
CREATED:20260324T214036Z
LAST-MODIFIED:20260324T214036Z
UID:10001125-1796497200-1796504400@islandpickle.com
SUMMARY:Saturday Night Live... at the Island
DESCRIPTION:Looking for something new and fun to do on a Saturday Night? Come have fun on the Island for our Saturday Night Live event! Join us for a high-energy\, open play night with music in a fun and lively social atmosphere. This is a 21+ event. Entry includes one drink ticket. Equipment rentals are available. Come learn or watch pickleball in a fun atmosphere\, hang around for food and drink! Sign up using the Island Pickle app which is located on the homepage of Island Pickle
URL:https://islandpickle.com/event/saturday-night-live-at-the-island/2026-12-05/
LOCATION:Island Pickle\, 51 Evergreen Circle\, Mashpee\, MA\, 02649\, United States
END:VEVENT
BEGIN:VEVENT
DTSTART;TZID=America/New_York:20261206T150000
DTEND;TZID=America/New_York:20261206T170000
DTSTAMP:20260422T180956
CREATED:20260421T000457Z
LAST-MODIFIED:20260421T000457Z
UID:10001652-1796569200-1796576400@islandpickle.com
SUMMARY:Pickleball for Parkinson's
DESCRIPTION:FREE Fun\, Fitness and Friendship! Instruction and supervised Open Play for individuals with Parkinson’s who are steady on their feet. Pickleball aids Parkinson’s patients by improving balance\, hand-eye coordination\, and visual-spatial awareness. Wear court shoes\, equipment provided. Contact Nat@islandpickle for more information.
URL:https://islandpickle.com/event/pickleball-for-parkinsons/2026-12-06/
LOCATION:Island Pickle\, 51 Evergreen Circle\, Mashpee\, MA\, 02649\, United States
END:VEVENT
BEGIN:VEVENT
DTSTART;TZID=America/New_York:20261207T180000
DTEND;TZID=America/New_York:20261207T200000
DTSTAMP:20260422T180956
CREATED:20260325T003704Z
LAST-MODIFIED:20260325T003704Z
UID:10001386-1796666400-1796673600@islandpickle.com
SUMMARY:Cribbage Night at Island Pickle
DESCRIPTION:Join us for a fun\, friendly and FREE Cribbage Night at Island Pickle every Monday from 6:00-8:00pm.  Open to the public and everyone is welcome. We’ll be playing a casual round-robin format where you’ll face multiple opponents and compete for the top spot of the night with the winner receiving a prize. Matches are quick\, competitive\, and perfect for a great evening out. \nOpen to the public so grab a friend (or two) and come enjoy some cards\, laughs\, and a little friendly competition. But seats are limited to the first 10 players who sign up. We’re playing in the Tavern so food (and drink) is available. See you at the tables!
URL:https://islandpickle.com/event/cribbage-night-at-island-pickle/2026-12-07/
LOCATION:Island Pickle\, 51 Evergreen Circle\, Mashpee\, MA\, 02649\, United States
END:VEVENT
BEGIN:VEVENT
DTSTART;TZID=America/New_York:20261208T180000
DTEND;TZID=America/New_York:20261208T210000
DTSTAMP:20260422T180956
CREATED:20260102T153922Z
LAST-MODIFIED:20260107T212847Z
UID:10000049-1796752800-1796763600@islandpickle.com
SUMMARY:Cornhole Tuesdays with Mixed Nuts
DESCRIPTION:Join us for Cornhole every Tuesday – hosted by Mixed Nuts! Open to the public – the first 28 people (2 man teams) who sign up will play. \n$15 per player \nDownload the Scoreholio app and sign up your team today! \n  \n 
URL:https://islandpickle.com/event/cornhole-tuesdays-with-mixed-nuts/2026-12-08/
LOCATION:MA
END:VEVENT
BEGIN:VEVENT
DTSTART;TZID=America/New_York:20261212T190000
DTEND;TZID=America/New_York:20261212T210000
DTSTAMP:20260422T180956
CREATED:20260324T214036Z
LAST-MODIFIED:20260324T214036Z
UID:10001126-1797102000-1797109200@islandpickle.com
SUMMARY:Saturday Night Live... at the Island
DESCRIPTION:Looking for something new and fun to do on a Saturday Night? Come have fun on the Island for our Saturday Night Live event! Join us for a high-energy\, open play night with music in a fun and lively social atmosphere. This is a 21+ event. Entry includes one drink ticket. Equipment rentals are available. Come learn or watch pickleball in a fun atmosphere\, hang around for food and drink! Sign up using the Island Pickle app which is located on the homepage of Island Pickle
URL:https://islandpickle.com/event/saturday-night-live-at-the-island/2026-12-12/
LOCATION:Island Pickle\, 51 Evergreen Circle\, Mashpee\, MA\, 02649\, United States
END:VEVENT
BEGIN:VEVENT
DTSTART;TZID=America/New_York:20261213T150000
DTEND;TZID=America/New_York:20261213T170000
DTSTAMP:20260422T180956
CREATED:20260421T000457Z
LAST-MODIFIED:20260421T000457Z
UID:10001653-1797174000-1797181200@islandpickle.com
SUMMARY:Pickleball for Parkinson's
DESCRIPTION:FREE Fun\, Fitness and Friendship! Instruction and supervised Open Play for individuals with Parkinson’s who are steady on their feet. Pickleball aids Parkinson’s patients by improving balance\, hand-eye coordination\, and visual-spatial awareness. Wear court shoes\, equipment provided. Contact Nat@islandpickle for more information.
URL:https://islandpickle.com/event/pickleball-for-parkinsons/2026-12-13/
LOCATION:Island Pickle\, 51 Evergreen Circle\, Mashpee\, MA\, 02649\, United States
END:VEVENT
BEGIN:VEVENT
DTSTART;TZID=America/New_York:20261214T180000
DTEND;TZID=America/New_York:20261214T200000
DTSTAMP:20260422T180956
CREATED:20260325T003704Z
LAST-MODIFIED:20260325T003704Z
UID:10001387-1797271200-1797278400@islandpickle.com
SUMMARY:Cribbage Night at Island Pickle
DESCRIPTION:Join us for a fun\, friendly and FREE Cribbage Night at Island Pickle every Monday from 6:00-8:00pm.  Open to the public and everyone is welcome. We’ll be playing a casual round-robin format where you’ll face multiple opponents and compete for the top spot of the night with the winner receiving a prize. Matches are quick\, competitive\, and perfect for a great evening out. \nOpen to the public so grab a friend (or two) and come enjoy some cards\, laughs\, and a little friendly competition. But seats are limited to the first 10 players who sign up. We’re playing in the Tavern so food (and drink) is available. See you at the tables!
URL:https://islandpickle.com/event/cribbage-night-at-island-pickle/2026-12-14/
LOCATION:Island Pickle\, 51 Evergreen Circle\, Mashpee\, MA\, 02649\, United States
END:VEVENT
BEGIN:VEVENT
DTSTART;TZID=America/New_York:20261215T180000
DTEND;TZID=America/New_York:20261215T210000
DTSTAMP:20260422T180956
CREATED:20260102T153922Z
LAST-MODIFIED:20260107T212847Z
UID:10000050-1797357600-1797368400@islandpickle.com
SUMMARY:Cornhole Tuesdays with Mixed Nuts
DESCRIPTION:Join us for Cornhole every Tuesday – hosted by Mixed Nuts! Open to the public – the first 28 people (2 man teams) who sign up will play. \n$15 per player \nDownload the Scoreholio app and sign up your team today! \n  \n 
URL:https://islandpickle.com/event/cornhole-tuesdays-with-mixed-nuts/2026-12-15/
LOCATION:MA
END:VEVENT
BEGIN:VEVENT
DTSTART;TZID=America/New_York:20261219T190000
DTEND;TZID=America/New_York:20261219T210000
DTSTAMP:20260422T180956
CREATED:20260324T214036Z
LAST-MODIFIED:20260324T214036Z
UID:10001127-1797706800-1797714000@islandpickle.com
SUMMARY:Saturday Night Live... at the Island
DESCRIPTION:Looking for something new and fun to do on a Saturday Night? Come have fun on the Island for our Saturday Night Live event! Join us for a high-energy\, open play night with music in a fun and lively social atmosphere. This is a 21+ event. Entry includes one drink ticket. Equipment rentals are available. Come learn or watch pickleball in a fun atmosphere\, hang around for food and drink! Sign up using the Island Pickle app which is located on the homepage of Island Pickle
URL:https://islandpickle.com/event/saturday-night-live-at-the-island/2026-12-19/
LOCATION:Island Pickle\, 51 Evergreen Circle\, Mashpee\, MA\, 02649\, United States
END:VEVENT
BEGIN:VEVENT
DTSTART;TZID=America/New_York:20261220T150000
DTEND;TZID=America/New_York:20261220T170000
DTSTAMP:20260422T180956
CREATED:20260421T000457Z
LAST-MODIFIED:20260421T000457Z
UID:10001654-1797778800-1797786000@islandpickle.com
SUMMARY:Pickleball for Parkinson's
DESCRIPTION:FREE Fun\, Fitness and Friendship! Instruction and supervised Open Play for individuals with Parkinson’s who are steady on their feet. Pickleball aids Parkinson’s patients by improving balance\, hand-eye coordination\, and visual-spatial awareness. Wear court shoes\, equipment provided. Contact Nat@islandpickle for more information.
URL:https://islandpickle.com/event/pickleball-for-parkinsons/2026-12-20/
LOCATION:Island Pickle\, 51 Evergreen Circle\, Mashpee\, MA\, 02649\, United States
END:VEVENT
BEGIN:VEVENT
DTSTART;TZID=America/New_York:20261221T180000
DTEND;TZID=America/New_York:20261221T200000
DTSTAMP:20260422T180956
CREATED:20260325T003704Z
LAST-MODIFIED:20260325T003704Z
UID:10001388-1797876000-1797883200@islandpickle.com
SUMMARY:Cribbage Night at Island Pickle
DESCRIPTION:Join us for a fun\, friendly and FREE Cribbage Night at Island Pickle every Monday from 6:00-8:00pm.  Open to the public and everyone is welcome. We’ll be playing a casual round-robin format where you’ll face multiple opponents and compete for the top spot of the night with the winner receiving a prize. Matches are quick\, competitive\, and perfect for a great evening out. \nOpen to the public so grab a friend (or two) and come enjoy some cards\, laughs\, and a little friendly competition. But seats are limited to the first 10 players who sign up. We’re playing in the Tavern so food (and drink) is available. See you at the tables!
URL:https://islandpickle.com/event/cribbage-night-at-island-pickle/2026-12-21/
LOCATION:Island Pickle\, 51 Evergreen Circle\, Mashpee\, MA\, 02649\, United States
END:VEVENT
BEGIN:VEVENT
DTSTART;TZID=America/New_York:20261222T180000
DTEND;TZID=America/New_York:20261222T210000
DTSTAMP:20260422T180956
CREATED:20260102T153922Z
LAST-MODIFIED:20260107T212847Z
UID:10000051-1797962400-1797973200@islandpickle.com
SUMMARY:Cornhole Tuesdays with Mixed Nuts
DESCRIPTION:Join us for Cornhole every Tuesday – hosted by Mixed Nuts! Open to the public – the first 28 people (2 man teams) who sign up will play. \n$15 per player \nDownload the Scoreholio app and sign up your team today! \n  \n 
URL:https://islandpickle.com/event/cornhole-tuesdays-with-mixed-nuts/2026-12-22/
LOCATION:MA
END:VEVENT
BEGIN:VEVENT
DTSTART;TZID=America/New_York:20261226T190000
DTEND;TZID=America/New_York:20261226T210000
DTSTAMP:20260422T180956
CREATED:20260324T214036Z
LAST-MODIFIED:20260324T214036Z
UID:10001128-1798311600-1798318800@islandpickle.com
SUMMARY:Saturday Night Live... at the Island
DESCRIPTION:Looking for something new and fun to do on a Saturday Night? Come have fun on the Island for our Saturday Night Live event! Join us for a high-energy\, open play night with music in a fun and lively social atmosphere. This is a 21+ event. Entry includes one drink ticket. Equipment rentals are available. Come learn or watch pickleball in a fun atmosphere\, hang around for food and drink! Sign up using the Island Pickle app which is located on the homepage of Island Pickle
URL:https://islandpickle.com/event/saturday-night-live-at-the-island/2026-12-26/
LOCATION:Island Pickle\, 51 Evergreen Circle\, Mashpee\, MA\, 02649\, United States
END:VEVENT
BEGIN:VEVENT
DTSTART;TZID=America/New_York:20261227T150000
DTEND;TZID=America/New_York:20261227T170000
DTSTAMP:20260422T180956
CREATED:20260421T000457Z
LAST-MODIFIED:20260421T000457Z
UID:10001655-1798383600-1798390800@islandpickle.com
SUMMARY:Pickleball for Parkinson's
DESCRIPTION:FREE Fun\, Fitness and Friendship! Instruction and supervised Open Play for individuals with Parkinson’s who are steady on their feet. Pickleball aids Parkinson’s patients by improving balance\, hand-eye coordination\, and visual-spatial awareness. Wear court shoes\, equipment provided. Contact Nat@islandpickle for more information.
URL:https://islandpickle.com/event/pickleball-for-parkinsons/2026-12-27/
LOCATION:Island Pickle\, 51 Evergreen Circle\, Mashpee\, MA\, 02649\, United States
END:VEVENT
BEGIN:VEVENT
DTSTART;TZID=America/New_York:20261228T180000
DTEND;TZID=America/New_York:20261228T200000
DTSTAMP:20260422T180956
CREATED:20260325T003704Z
LAST-MODIFIED:20260325T003704Z
UID:10001389-1798480800-1798488000@islandpickle.com
SUMMARY:Cribbage Night at Island Pickle
DESCRIPTION:Join us for a fun\, friendly and FREE Cribbage Night at Island Pickle every Monday from 6:00-8:00pm.  Open to the public and everyone is welcome. We’ll be playing a casual round-robin format where you’ll face multiple opponents and compete for the top spot of the night with the winner receiving a prize. Matches are quick\, competitive\, and perfect for a great evening out. \nOpen to the public so grab a friend (or two) and come enjoy some cards\, laughs\, and a little friendly competition. But seats are limited to the first 10 players who sign up. We’re playing in the Tavern so food (and drink) is available. See you at the tables!
URL:https://islandpickle.com/event/cribbage-night-at-island-pickle/2026-12-28/
LOCATION:Island Pickle\, 51 Evergreen Circle\, Mashpee\, MA\, 02649\, United States
END:VEVENT
BEGIN:VEVENT
DTSTART;TZID=America/New_York:20261229T180000
DTEND;TZID=America/New_York:20261229T210000
DTSTAMP:20260422T180956
CREATED:20260102T153922Z
LAST-MODIFIED:20260107T212847Z
UID:10000052-1798567200-1798578000@islandpickle.com
SUMMARY:Cornhole Tuesdays with Mixed Nuts
DESCRIPTION:Join us for Cornhole every Tuesday – hosted by Mixed Nuts! Open to the public – the first 28 people (2 man teams) who sign up will play. \n$15 per player \nDownload the Scoreholio app and sign up your team today! \n  \n 
URL:https://islandpickle.com/event/cornhole-tuesdays-with-mixed-nuts/2026-12-29/
LOCATION:MA
END:VEVENT
BEGIN:VEVENT
DTSTART;TZID=America/New_York:20270102T190000
DTEND;TZID=America/New_York:20270102T210000
DTSTAMP:20260422T180956
CREATED:20260324T214036Z
LAST-MODIFIED:20260324T214036Z
UID:10001129-1798916400-1798923600@islandpickle.com
SUMMARY:Saturday Night Live... at the Island
DESCRIPTION:Looking for something new and fun to do on a Saturday Night? Come have fun on the Island for our Saturday Night Live event! Join us for a high-energy\, open play night with music in a fun and lively social atmosphere. This is a 21+ event. Entry includes one drink ticket. Equipment rentals are available. Come learn or watch pickleball in a fun atmosphere\, hang around for food and drink! Sign up using the Island Pickle app which is located on the homepage of Island Pickle
URL:https://islandpickle.com/event/saturday-night-live-at-the-island/2027-01-02/
LOCATION:Island Pickle\, 51 Evergreen Circle\, Mashpee\, MA\, 02649\, United States
END:VEVENT
BEGIN:VEVENT
DTSTART;TZID=America/New_York:20270103T150000
DTEND;TZID=America/New_York:20270103T170000
DTSTAMP:20260422T180956
CREATED:20260421T000457Z
LAST-MODIFIED:20260421T000457Z
UID:10001656-1798988400-1798995600@islandpickle.com
SUMMARY:Pickleball for Parkinson's
DESCRIPTION:FREE Fun\, Fitness and Friendship! Instruction and supervised Open Play for individuals with Parkinson’s who are steady on their feet. Pickleball aids Parkinson’s patients by improving balance\, hand-eye coordination\, and visual-spatial awareness. Wear court shoes\, equipment provided. Contact Nat@islandpickle for more information.
URL:https://islandpickle.com/event/pickleball-for-parkinsons/2027-01-03/
LOCATION:Island Pickle\, 51 Evergreen Circle\, Mashpee\, MA\, 02649\, United States
END:VEVENT
BEGIN:VEVENT
DTSTART;TZID=America/New_York:20270104T180000
DTEND;TZID=America/New_York:20270104T200000
DTSTAMP:20260422T180956
CREATED:20260325T003704Z
LAST-MODIFIED:20260325T003704Z
UID:10001390-1799085600-1799092800@islandpickle.com
SUMMARY:Cribbage Night at Island Pickle
DESCRIPTION:Join us for a fun\, friendly and FREE Cribbage Night at Island Pickle every Monday from 6:00-8:00pm.  Open to the public and everyone is welcome. We’ll be playing a casual round-robin format where you’ll face multiple opponents and compete for the top spot of the night with the winner receiving a prize. Matches are quick\, competitive\, and perfect for a great evening out. \nOpen to the public so grab a friend (or two) and come enjoy some cards\, laughs\, and a little friendly competition. But seats are limited to the first 10 players who sign up. We’re playing in the Tavern so food (and drink) is available. See you at the tables!
URL:https://islandpickle.com/event/cribbage-night-at-island-pickle/2027-01-04/
LOCATION:Island Pickle\, 51 Evergreen Circle\, Mashpee\, MA\, 02649\, United States
END:VEVENT
BEGIN:VEVENT
DTSTART;TZID=America/New_York:20270105T180000
DTEND;TZID=America/New_York:20270105T210000
DTSTAMP:20260422T180956
CREATED:20260102T153922Z
LAST-MODIFIED:20260107T212847Z
UID:10000053-1799172000-1799182800@islandpickle.com
SUMMARY:Cornhole Tuesdays with Mixed Nuts
DESCRIPTION:Join us for Cornhole every Tuesday – hosted by Mixed Nuts! Open to the public – the first 28 people (2 man teams) who sign up will play. \n$15 per player \nDownload the Scoreholio app and sign up your team today! \n  \n 
URL:https://islandpickle.com/event/cornhole-tuesdays-with-mixed-nuts/2027-01-05/
LOCATION:MA
END:VEVENT
BEGIN:VEVENT
DTSTART;TZID=America/New_York:20270109T190000
DTEND;TZID=America/New_York:20270109T210000
DTSTAMP:20260422T180956
CREATED:20260324T214036Z
LAST-MODIFIED:20260324T214036Z
UID:10001130-1799521200-1799528400@islandpickle.com
SUMMARY:Saturday Night Live... at the Island
DESCRIPTION:Looking for something new and fun to do on a Saturday Night? Come have fun on the Island for our Saturday Night Live event! Join us for a high-energy\, open play night with music in a fun and lively social atmosphere. This is a 21+ event. Entry includes one drink ticket. Equipment rentals are available. Come learn or watch pickleball in a fun atmosphere\, hang around for food and drink! Sign up using the Island Pickle app which is located on the homepage of Island Pickle
URL:https://islandpickle.com/event/saturday-night-live-at-the-island/2027-01-09/
LOCATION:Island Pickle\, 51 Evergreen Circle\, Mashpee\, MA\, 02649\, United States
END:VEVENT
BEGIN:VEVENT
DTSTART;TZID=America/New_York:20270110T150000
DTEND;TZID=America/New_York:20270110T170000
DTSTAMP:20260422T180956
CREATED:20260421T000457Z
LAST-MODIFIED:20260421T000457Z
UID:10001657-1799593200-1799600400@islandpickle.com
SUMMARY:Pickleball for Parkinson's
DESCRIPTION:FREE Fun\, Fitness and Friendship! Instruction and supervised Open Play for individuals with Parkinson’s who are steady on their feet. Pickleball aids Parkinson’s patients by improving balance\, hand-eye coordination\, and visual-spatial awareness. Wear court shoes\, equipment provided. Contact Nat@islandpickle for more information.
URL:https://islandpickle.com/event/pickleball-for-parkinsons/2027-01-10/
LOCATION:Island Pickle\, 51 Evergreen Circle\, Mashpee\, MA\, 02649\, United States
END:VEVENT
BEGIN:VEVENT
DTSTART;TZID=America/New_York:20270111T180000
DTEND;TZID=America/New_York:20270111T200000
DTSTAMP:20260422T180956
CREATED:20260325T003704Z
LAST-MODIFIED:20260325T003704Z
UID:10001391-1799690400-1799697600@islandpickle.com
SUMMARY:Cribbage Night at Island Pickle
DESCRIPTION:Join us for a fun\, friendly and FREE Cribbage Night at Island Pickle every Monday from 6:00-8:00pm.  Open to the public and everyone is welcome. We’ll be playing a casual round-robin format where you’ll face multiple opponents and compete for the top spot of the night with the winner receiving a prize. Matches are quick\, competitive\, and perfect for a great evening out. \nOpen to the public so grab a friend (or two) and come enjoy some cards\, laughs\, and a little friendly competition. But seats are limited to the first 10 players who sign up. We’re playing in the Tavern so food (and drink) is available. See you at the tables!
URL:https://islandpickle.com/event/cribbage-night-at-island-pickle/2027-01-11/
LOCATION:Island Pickle\, 51 Evergreen Circle\, Mashpee\, MA\, 02649\, United States
END:VEVENT
BEGIN:VEVENT
DTSTART;TZID=America/New_York:20270112T180000
DTEND;TZID=America/New_York:20270112T210000
DTSTAMP:20260422T180956
CREATED:20260102T153922Z
LAST-MODIFIED:20260107T212847Z
UID:10000054-1799776800-1799787600@islandpickle.com
SUMMARY:Cornhole Tuesdays with Mixed Nuts
DESCRIPTION:Join us for Cornhole every Tuesday – hosted by Mixed Nuts! Open to the public – the first 28 people (2 man teams) who sign up will play. \n$15 per player \nDownload the Scoreholio app and sign up your team today! \n  \n 
URL:https://islandpickle.com/event/cornhole-tuesdays-with-mixed-nuts/2027-01-12/
LOCATION:MA
END:VEVENT
BEGIN:VEVENT
DTSTART;TZID=America/New_York:20270116T190000
DTEND;TZID=America/New_York:20270116T210000
DTSTAMP:20260422T180956
CREATED:20260324T214036Z
LAST-MODIFIED:20260324T214036Z
UID:10001131-1800126000-1800133200@islandpickle.com
SUMMARY:Saturday Night Live... at the Island
DESCRIPTION:Looking for something new and fun to do on a Saturday Night? Come have fun on the Island for our Saturday Night Live event! Join us for a high-energy\, open play night with music in a fun and lively social atmosphere. This is a 21+ event. Entry includes one drink ticket. Equipment rentals are available. Come learn or watch pickleball in a fun atmosphere\, hang around for food and drink! Sign up using the Island Pickle app which is located on the homepage of Island Pickle
URL:https://islandpickle.com/event/saturday-night-live-at-the-island/2027-01-16/
LOCATION:Island Pickle\, 51 Evergreen Circle\, Mashpee\, MA\, 02649\, United States
END:VEVENT
BEGIN:VEVENT
DTSTART;TZID=America/New_York:20270117T150000
DTEND;TZID=America/New_York:20270117T170000
DTSTAMP:20260422T180956
CREATED:20260421T000457Z
LAST-MODIFIED:20260421T000457Z
UID:10001658-1800198000-1800205200@islandpickle.com
SUMMARY:Pickleball for Parkinson's
DESCRIPTION:FREE Fun\, Fitness and Friendship! Instruction and supervised Open Play for individuals with Parkinson’s who are steady on their feet. Pickleball aids Parkinson’s patients by improving balance\, hand-eye coordination\, and visual-spatial awareness. Wear court shoes\, equipment provided. Contact Nat@islandpickle for more information.
URL:https://islandpickle.com/event/pickleball-for-parkinsons/2027-01-17/
LOCATION:Island Pickle\, 51 Evergreen Circle\, Mashpee\, MA\, 02649\, United States
END:VEVENT
BEGIN:VEVENT
DTSTART;TZID=America/New_York:20270118T180000
DTEND;TZID=America/New_York:20270118T200000
DTSTAMP:20260422T180956
CREATED:20260325T003704Z
LAST-MODIFIED:20260325T003704Z
UID:10001392-1800295200-1800302400@islandpickle.com
SUMMARY:Cribbage Night at Island Pickle
DESCRIPTION:Join us for a fun\, friendly and FREE Cribbage Night at Island Pickle every Monday from 6:00-8:00pm.  Open to the public and everyone is welcome. We’ll be playing a casual round-robin format where you’ll face multiple opponents and compete for the top spot of the night with the winner receiving a prize. Matches are quick\, competitive\, and perfect for a great evening out. \nOpen to the public so grab a friend (or two) and come enjoy some cards\, laughs\, and a little friendly competition. But seats are limited to the first 10 players who sign up. We’re playing in the Tavern so food (and drink) is available. See you at the tables!
URL:https://islandpickle.com/event/cribbage-night-at-island-pickle/2027-01-18/
LOCATION:Island Pickle\, 51 Evergreen Circle\, Mashpee\, MA\, 02649\, United States
END:VEVENT
BEGIN:VEVENT
DTSTART;TZID=America/New_York:20270119T180000
DTEND;TZID=America/New_York:20270119T210000
DTSTAMP:20260422T180956
CREATED:20260102T153922Z
LAST-MODIFIED:20260107T212847Z
UID:10000055-1800381600-1800392400@islandpickle.com
SUMMARY:Cornhole Tuesdays with Mixed Nuts
DESCRIPTION:Join us for Cornhole every Tuesday – hosted by Mixed Nuts! Open to the public – the first 28 people (2 man teams) who sign up will play. \n$15 per player \nDownload the Scoreholio app and sign up your team today! \n  \n 
URL:https://islandpickle.com/event/cornhole-tuesdays-with-mixed-nuts/2027-01-19/
LOCATION:MA
END:VEVENT
BEGIN:VEVENT
DTSTART;TZID=America/New_York:20270123T190000
DTEND;TZID=America/New_York:20270123T210000
DTSTAMP:20260422T180956
CREATED:20260324T214036Z
LAST-MODIFIED:20260324T214036Z
UID:10001132-1800730800-1800738000@islandpickle.com
SUMMARY:Saturday Night Live... at the Island
DESCRIPTION:Looking for something new and fun to do on a Saturday Night? Come have fun on the Island for our Saturday Night Live event! Join us for a high-energy\, open play night with music in a fun and lively social atmosphere. This is a 21+ event. Entry includes one drink ticket. Equipment rentals are available. Come learn or watch pickleball in a fun atmosphere\, hang around for food and drink! Sign up using the Island Pickle app which is located on the homepage of Island Pickle
URL:https://islandpickle.com/event/saturday-night-live-at-the-island/2027-01-23/
LOCATION:Island Pickle\, 51 Evergreen Circle\, Mashpee\, MA\, 02649\, United States
END:VEVENT
END:VCALENDAR