BEGIN:VCALENDAR
VERSION:2.0
PRODID:-//Island Pickle - ECPv6.15.18//NONSGML v1.0//EN
CALSCALE:GREGORIAN
METHOD:PUBLISH
X-WR-CALNAME:Island Pickle
X-ORIGINAL-URL:https://islandpickle.com
X-WR-CALDESC:Events for Island Pickle
REFRESH-INTERVAL;VALUE=DURATION:PT1H
X-Robots-Tag:noindex
X-PUBLISHED-TTL:PT1H
BEGIN:VTIMEZONE
TZID:America/New_York
BEGIN:DAYLIGHT
TZOFFSETFROM:-0500
TZOFFSETTO:-0400
TZNAME:EDT
DTSTART:20250309T070000
END:DAYLIGHT
BEGIN:STANDARD
TZOFFSETFROM:-0400
TZOFFSETTO:-0500
TZNAME:EST
DTSTART:20251102T060000
END:STANDARD
BEGIN:DAYLIGHT
TZOFFSETFROM:-0500
TZOFFSETTO:-0400
TZNAME:EDT
DTSTART:20260308T070000
END:DAYLIGHT
BEGIN:STANDARD
TZOFFSETFROM:-0400
TZOFFSETTO:-0500
TZNAME:EST
DTSTART:20261101T060000
END:STANDARD
BEGIN:DAYLIGHT
TZOFFSETFROM:-0500
TZOFFSETTO:-0400
TZNAME:EDT
DTSTART:20270314T070000
END:DAYLIGHT
BEGIN:STANDARD
TZOFFSETFROM:-0400
TZOFFSETTO:-0500
TZNAME:EST
DTSTART:20271107T060000
END:STANDARD
END:VTIMEZONE
BEGIN:VEVENT
DTSTART;TZID=America/New_York:20260414T180000
DTEND;TZID=America/New_York:20260414T210000
DTSTAMP:20260423T175148
CREATED:20260102T153922Z
LAST-MODIFIED:20260107T212847Z
UID:10000015-1776189600-1776200400@islandpickle.com
SUMMARY:Cornhole Tuesdays with Mixed Nuts
DESCRIPTION:Join us for Cornhole every Tuesday – hosted by Mixed Nuts! Open to the public – the first 28 people (2 man teams) who sign up will play. \n$15 per player \nDownload the Scoreholio app and sign up your team today! \n  \n 
URL:https://islandpickle.com/event/cornhole-tuesdays-with-mixed-nuts/2026-04-14/
LOCATION:MA
END:VEVENT
BEGIN:VEVENT
DTSTART;TZID=America/New_York:20260413T180000
DTEND;TZID=America/New_York:20260413T200000
DTSTAMP:20260423T175148
CREATED:20260325T003704Z
LAST-MODIFIED:20260325T003704Z
UID:10001352-1776103200-1776110400@islandpickle.com
SUMMARY:Cribbage Night at Island Pickle
DESCRIPTION:Join us for a fun\, friendly and FREE Cribbage Night at Island Pickle every Monday from 6:00-8:00pm.  Open to the public and everyone is welcome. We’ll be playing a casual round-robin format where you’ll face multiple opponents and compete for the top spot of the night with the winner receiving a prize. Matches are quick\, competitive\, and perfect for a great evening out. \nOpen to the public so grab a friend (or two) and come enjoy some cards\, laughs\, and a little friendly competition. But seats are limited to the first 10 players who sign up. We’re playing in the Tavern so food (and drink) is available. See you at the tables!
URL:https://islandpickle.com/event/cribbage-night-at-island-pickle/2026-04-13/
LOCATION:Island Pickle\, 51 Evergreen Circle\, Mashpee\, MA\, 02649\, United States
END:VEVENT
BEGIN:VEVENT
DTSTART;TZID=America/New_York:20260411T190000
DTEND;TZID=America/New_York:20260411T210000
DTSTAMP:20260423T175148
CREATED:20260324T214036Z
LAST-MODIFIED:20260324T214036Z
UID:10001091-1775934000-1775941200@islandpickle.com
SUMMARY:Saturday Night Live... at the Island
DESCRIPTION:Looking for something new and fun to do on a Saturday Night? Come have fun on the Island for our Saturday Night Live event! Join us for a high-energy\, open play night with music in a fun and lively social atmosphere. This is a 21+ event. Entry includes one drink ticket. Equipment rentals are available. Come learn or watch pickleball in a fun atmosphere\, hang around for food and drink! Sign up using the Island Pickle app which is located on the homepage of Island Pickle
URL:https://islandpickle.com/event/saturday-night-live-at-the-island/2026-04-11/
LOCATION:Island Pickle\, 51 Evergreen Circle\, Mashpee\, MA\, 02649\, United States
END:VEVENT
BEGIN:VEVENT
DTSTART;TZID=America/New_York:20260411T130000
DTEND;TZID=America/New_York:20260411T190000
DTSTAMP:20260423T175149
CREATED:20260324T015154Z
LAST-MODIFIED:20260324T123418Z
UID:10000824-1775912400-1775934000@islandpickle.com
SUMMARY:Moving Day at the Masters
DESCRIPTION:Saturday is moving day at the Masters… the day golfers jockey for position on the leaderboard\, aiming to set themselves up for a chance at the winning the tournament and earning the coveted Green Jacket. Join us in the Tavern as we bring Augusta\, GA to Mashpee with Masters-inspired food and drink\, plus some special tastings and signature cocktails featuring Kettle One vodka. It’s a “Tradition Unlike Any Other”….so come to the Island and experience it!
URL:https://islandpickle.com/event/moving-day-at-the-masters/
LOCATION:Island Pickle\, 51 Evergreen Circle\, Mashpee\, MA\, 02649\, United States
END:VEVENT
BEGIN:VEVENT
DTSTART;TZID=America/New_York:20260407T180000
DTEND;TZID=America/New_York:20260407T210000
DTSTAMP:20260423T175149
CREATED:20260102T153922Z
LAST-MODIFIED:20260107T212847Z
UID:10000014-1775584800-1775595600@islandpickle.com
SUMMARY:Cornhole Tuesdays with Mixed Nuts
DESCRIPTION:Join us for Cornhole every Tuesday – hosted by Mixed Nuts! Open to the public – the first 28 people (2 man teams) who sign up will play. \n$15 per player \nDownload the Scoreholio app and sign up your team today! \n  \n 
URL:https://islandpickle.com/event/cornhole-tuesdays-with-mixed-nuts/2026-04-07/
LOCATION:MA
END:VEVENT
BEGIN:VEVENT
DTSTART;TZID=America/New_York:20260406T180000
DTEND;TZID=America/New_York:20260406T200000
DTSTAMP:20260423T175149
CREATED:20260325T003704Z
LAST-MODIFIED:20260325T003704Z
UID:10001351-1775498400-1775505600@islandpickle.com
SUMMARY:Cribbage Night at Island Pickle
DESCRIPTION:Join us for a fun\, friendly and FREE Cribbage Night at Island Pickle every Monday from 6:00-8:00pm.  Open to the public and everyone is welcome. We’ll be playing a casual round-robin format where you’ll face multiple opponents and compete for the top spot of the night with the winner receiving a prize. Matches are quick\, competitive\, and perfect for a great evening out. \nOpen to the public so grab a friend (or two) and come enjoy some cards\, laughs\, and a little friendly competition. But seats are limited to the first 10 players who sign up. We’re playing in the Tavern so food (and drink) is available. See you at the tables!
URL:https://islandpickle.com/event/cribbage-night-at-island-pickle/2026-04-06/
LOCATION:Island Pickle\, 51 Evergreen Circle\, Mashpee\, MA\, 02649\, United States
END:VEVENT
BEGIN:VEVENT
DTSTART;TZID=America/New_York:20260406T180000
DTEND;TZID=America/New_York:20260406T200000
DTSTAMP:20260423T175149
CREATED:20260320T141301Z
LAST-MODIFIED:20260320T141301Z
UID:10000818-1775498400-1775505600@islandpickle.com
SUMMARY:Trivia with Lemonadio
DESCRIPTION:Join us for a fun night of trivia with Lemonadio! Bring your friends\, make a team\, win fun prizes!
URL:https://islandpickle.com/event/trivia-with-lemonadio/2026-04-06/
LOCATION:MA
END:VEVENT
BEGIN:VEVENT
DTSTART;TZID=America/New_York:20260404T190000
DTEND;TZID=America/New_York:20260404T210000
DTSTAMP:20260423T175149
CREATED:20260324T214036Z
LAST-MODIFIED:20260324T214036Z
UID:10001090-1775329200-1775336400@islandpickle.com
SUMMARY:Saturday Night Live... at the Island
DESCRIPTION:Looking for something new and fun to do on a Saturday Night? Come have fun on the Island for our Saturday Night Live event! Join us for a high-energy\, open play night with music in a fun and lively social atmosphere. This is a 21+ event. Entry includes one drink ticket. Equipment rentals are available. Come learn or watch pickleball in a fun atmosphere\, hang around for food and drink! Sign up using the Island Pickle app which is located on the homepage of Island Pickle
URL:https://islandpickle.com/event/saturday-night-live-at-the-island/2026-04-04/
LOCATION:Island Pickle\, 51 Evergreen Circle\, Mashpee\, MA\, 02649\, United States
END:VEVENT
BEGIN:VEVENT
DTSTART;TZID=America/New_York:20260404T160000
DTEND;TZID=America/New_York:20260404T180000
DTSTAMP:20260423T175149
CREATED:20260320T141458Z
LAST-MODIFIED:20260324T013729Z
UID:10000820-1775318400-1775325600@islandpickle.com
SUMMARY:Red Sox Opening Day Watch Party
DESCRIPTION:Let’s root\, root\, root for the home team at the Red Sox Opening Day Watch Party! Come on down to the Island and root on the Red Sox as they open the 2026 season on April 4\, 2026 against the Cincinnati Reds. Kettle One vodka will be here with tastings and special drinks to get the season started. Chef Nick’s full menu will be available\, and you can be sure he’ll have some special on the menu that day to celebrate Opening Day! First pitch is scheduled for 4:10\, let’s Play Ball! \nMake sure you join us for every Red Sox game in the Tavern the rest of the season.
URL:https://islandpickle.com/event/red-sox-opening-day/
LOCATION:MA
END:VEVENT
BEGIN:VEVENT
DTSTART;TZID=America/New_York:20260331T180000
DTEND;TZID=America/New_York:20260331T210000
DTSTAMP:20260423T175149
CREATED:20260102T153922Z
LAST-MODIFIED:20260107T212847Z
UID:10000013-1774980000-1774990800@islandpickle.com
SUMMARY:Cornhole Tuesdays with Mixed Nuts
DESCRIPTION:Join us for Cornhole every Tuesday – hosted by Mixed Nuts! Open to the public – the first 28 people (2 man teams) who sign up will play. \n$15 per player \nDownload the Scoreholio app and sign up your team today! \n  \n 
URL:https://islandpickle.com/event/cornhole-tuesdays-with-mixed-nuts/2026-03-31/
LOCATION:MA
END:VEVENT
BEGIN:VEVENT
DTSTART;TZID=America/New_York:20260330T180000
DTEND;TZID=America/New_York:20260330T200000
DTSTAMP:20260423T175149
CREATED:20260325T003704Z
LAST-MODIFIED:20260325T003704Z
UID:10001350-1774893600-1774900800@islandpickle.com
SUMMARY:Cribbage Night at Island Pickle
DESCRIPTION:Join us for a fun\, friendly and FREE Cribbage Night at Island Pickle every Monday from 6:00-8:00pm.  Open to the public and everyone is welcome. We’ll be playing a casual round-robin format where you’ll face multiple opponents and compete for the top spot of the night with the winner receiving a prize. Matches are quick\, competitive\, and perfect for a great evening out. \nOpen to the public so grab a friend (or two) and come enjoy some cards\, laughs\, and a little friendly competition. But seats are limited to the first 10 players who sign up. We’re playing in the Tavern so food (and drink) is available. See you at the tables!
URL:https://islandpickle.com/event/cribbage-night-at-island-pickle/2026-03-30/
LOCATION:Island Pickle\, 51 Evergreen Circle\, Mashpee\, MA\, 02649\, United States
END:VEVENT
BEGIN:VEVENT
DTSTART;TZID=America/New_York:20260328T190000
DTEND;TZID=America/New_York:20260328T210000
DTSTAMP:20260423T175149
CREATED:20260324T214036Z
LAST-MODIFIED:20260324T214036Z
UID:10001089-1774724400-1774731600@islandpickle.com
SUMMARY:Saturday Night Live... at the Island
DESCRIPTION:Looking for something new and fun to do on a Saturday Night? Come have fun on the Island for our Saturday Night Live event! Join us for a high-energy\, open play night with music in a fun and lively social atmosphere. This is a 21+ event. Entry includes one drink ticket. Equipment rentals are available. Come learn or watch pickleball in a fun atmosphere\, hang around for food and drink! Sign up using the Island Pickle app which is located on the homepage of Island Pickle
URL:https://islandpickle.com/event/saturday-night-live-at-the-island/2026-03-28/
LOCATION:Island Pickle\, 51 Evergreen Circle\, Mashpee\, MA\, 02649\, United States
END:VEVENT
BEGIN:VEVENT
DTSTART;TZID=America/New_York:20260328T180000
DTEND;TZID=America/New_York:20260328T210000
DTSTAMP:20260423T175149
CREATED:20260320T143638Z
LAST-MODIFIED:20260320T143638Z
UID:10000823-1774720800-1774731600@islandpickle.com
SUMMARY:Live music with The Most Band
DESCRIPTION:Swing on down to the Island and enjoy The Most Band\, a fun group that plays a danceable mix of rock and roll classics! It’s Rock and Roll like you remember it….
URL:https://islandpickle.com/event/live-music-with-the-most-band/
LOCATION:MA
END:VEVENT
BEGIN:VEVENT
DTSTART;TZID=America/New_York:20260327T190000
DTEND;TZID=America/New_York:20260327T210000
DTSTAMP:20260423T175149
CREATED:20260223T194910Z
LAST-MODIFIED:20260223T195756Z
UID:10000289-1774638000-1774645200@islandpickle.com
SUMMARY:Live Music with J3 (Just the 3 of Us)
DESCRIPTION:Come in and enjoy the music of Just the 3 of us (J3)
URL:https://islandpickle.com/event/live-music-with-j3-just-the-3-of-us/
LOCATION:Island Pickle\, 51 Evergreen Circle\, Mashpee\, MA\, 02649\, United States
END:VEVENT
BEGIN:VEVENT
DTSTART;TZID=America/New_York:20260324T180000
DTEND;TZID=America/New_York:20260324T210000
DTSTAMP:20260423T175149
CREATED:20260102T153922Z
LAST-MODIFIED:20260107T212847Z
UID:10000012-1774375200-1774386000@islandpickle.com
SUMMARY:Cornhole Tuesdays with Mixed Nuts
DESCRIPTION:Join us for Cornhole every Tuesday – hosted by Mixed Nuts! Open to the public – the first 28 people (2 man teams) who sign up will play. \n$15 per player \nDownload the Scoreholio app and sign up your team today! \n  \n 
URL:https://islandpickle.com/event/cornhole-tuesdays-with-mixed-nuts/2026-03-24/
LOCATION:MA
END:VEVENT
BEGIN:VEVENT
DTSTART;TZID=America/New_York:20260317T180000
DTEND;TZID=America/New_York:20260317T210000
DTSTAMP:20260423T175149
CREATED:20260102T153922Z
LAST-MODIFIED:20260107T212847Z
UID:10000011-1773770400-1773781200@islandpickle.com
SUMMARY:Cornhole Tuesdays with Mixed Nuts
DESCRIPTION:Join us for Cornhole every Tuesday – hosted by Mixed Nuts! Open to the public – the first 28 people (2 man teams) who sign up will play. \n$15 per player \nDownload the Scoreholio app and sign up your team today! \n  \n 
URL:https://islandpickle.com/event/cornhole-tuesdays-with-mixed-nuts/2026-03-17/
LOCATION:MA
END:VEVENT
BEGIN:VEVENT
DTSTART;TZID=America/New_York:20260310T180000
DTEND;TZID=America/New_York:20260310T210000
DTSTAMP:20260423T175149
CREATED:20260102T153922Z
LAST-MODIFIED:20260107T212847Z
UID:10000010-1773165600-1773176400@islandpickle.com
SUMMARY:Cornhole Tuesdays with Mixed Nuts
DESCRIPTION:Join us for Cornhole every Tuesday – hosted by Mixed Nuts! Open to the public – the first 28 people (2 man teams) who sign up will play. \n$15 per player \nDownload the Scoreholio app and sign up your team today! \n  \n 
URL:https://islandpickle.com/event/cornhole-tuesdays-with-mixed-nuts/2026-03-10/
LOCATION:MA
END:VEVENT
BEGIN:VEVENT
DTSTART;TZID=America/New_York:20260307T170000
DTEND;TZID=America/New_York:20260307T200000
DTSTAMP:20260423T175149
CREATED:20260304T031112Z
LAST-MODIFIED:20260304T031112Z
UID:10000291-1772902800-1772913600@islandpickle.com
SUMMARY:Live Music with Michael Oakland
DESCRIPTION:
URL:https://islandpickle.com/event/live-music-with-michael-oakland/
LOCATION:Island Pickle\, 51 Evergreen Circle\, Mashpee\, MA\, 02649\, United States
END:VEVENT
BEGIN:VEVENT
DTSTART;TZID=America/New_York:20260307T130000
DTEND;TZID=America/New_York:20260307T150000
DTSTAMP:20260423T175149
CREATED:20260227T201831Z
LAST-MODIFIED:20260227T201831Z
UID:10000290-1772888400-1772895600@islandpickle.com
SUMMARY:Bruin's Watch Party with Jameson Irish Whiskey
DESCRIPTION:Join us 1:00-3:00pm at Island Pickle for a Boston Bruin’s Watch Party with Jameson Irish Whiskey. We’ll have lots of giveaways\, swag\, specials and more! The Tavern is a great place to experience the game!
URL:https://islandpickle.com/event/bruins-watch-party-with-jameson-irish-whiskey/
LOCATION:Island Pickle\, 51 Evergreen Circle\, Mashpee\, MA\, 02649\, United States
END:VEVENT
BEGIN:VEVENT
DTSTART;TZID=America/New_York:20260303T180000
DTEND;TZID=America/New_York:20260303T210000
DTSTAMP:20260423T175149
CREATED:20260102T153922Z
LAST-MODIFIED:20260107T212847Z
UID:10000009-1772560800-1772571600@islandpickle.com
SUMMARY:Cornhole Tuesdays with Mixed Nuts
DESCRIPTION:Join us for Cornhole every Tuesday – hosted by Mixed Nuts! Open to the public – the first 28 people (2 man teams) who sign up will play. \n$15 per player \nDownload the Scoreholio app and sign up your team today! \n  \n 
URL:https://islandpickle.com/event/cornhole-tuesdays-with-mixed-nuts/2026-03-03/
LOCATION:MA
END:VEVENT
BEGIN:VEVENT
DTSTART;TZID=America/New_York:20260228T173000
DTEND;TZID=America/New_York:20260228T203000
DTSTAMP:20260423T175149
CREATED:20260203T013219Z
LAST-MODIFIED:20260207T202807Z
UID:10000284-1772299800-1772310600@islandpickle.com
SUMMARY:Single AF - A Post Valentine's Day Social
DESCRIPTION:Valentine’s Day is over — now it’s time to actually have fun. \nBUY YOUR $10 TICKET HERE: https://www.zeffy.com/en-US/ticketing/single-af \nJoin us Saturday\, February 28\, 2026\, from 5:30–8:30 PM at Island Pickle (51 Evergreen Circle\, Mashpee\, MA) for a relaxed\, inclusive social event for singles of all kinds. This is not a pressure-packed dating event — it’s a chance to connect\, laugh\, and meet new people in a welcoming\, low-stress environment. \nWhat to Expect: Casual mingling and conversation. Optional speed-dating rounds (participation is totally up to you. Light facilitation to keep things moving and fun. A mix of social\, friendly\, and flirty energy — no awkward expectations \nWhether you’re newly single\, happily single\, or just curious to meet new humans\, this night is designed to feel easy and enjoyable. \nImportant Note: This event will be filmed as part of a documentary project. All attendees are required to sign a likeness release in order to participate. If you’re not comfortable being on camera\, this event may not be the right fit.
URL:https://islandpickle.com/event/speed-dating-with-stephanie-viva-and-felicia-romano/
LOCATION:MA
END:VEVENT
BEGIN:VEVENT
DTSTART;TZID=America/New_York:20260224T180000
DTEND;TZID=America/New_York:20260224T210000
DTSTAMP:20260423T175149
CREATED:20260102T153922Z
LAST-MODIFIED:20260107T212847Z
UID:10000008-1771956000-1771966800@islandpickle.com
SUMMARY:Cornhole Tuesdays with Mixed Nuts
DESCRIPTION:Join us for Cornhole every Tuesday – hosted by Mixed Nuts! Open to the public – the first 28 people (2 man teams) who sign up will play. \n$15 per player \nDownload the Scoreholio app and sign up your team today! \n  \n 
URL:https://islandpickle.com/event/cornhole-tuesdays-with-mixed-nuts/2026-02-24/
LOCATION:MA
END:VEVENT
BEGIN:VEVENT
DTSTART;TZID=America/New_York:20260220T190000
DTEND;TZID=America/New_York:20260220T210000
DTSTAMP:20260423T175149
CREATED:20260107T173117Z
LAST-MODIFIED:20260212T151225Z
UID:10000265-1771614000-1771621200@islandpickle.com
SUMMARY:Live Music with Monomoy Sound
DESCRIPTION:Enjoy the jazzy coastal textures and beach party vibes with Monomoy Sound – a Cape-based band writing and performing original songs with Cape Cod inspired themes. Performing live in the Tavern this event is free to patrons!
URL:https://islandpickle.com/event/live-music-with-monomoy-sound/
LOCATION:MA
END:VEVENT
BEGIN:VEVENT
DTSTART;TZID=America/New_York:20260218T150000
DTEND;TZID=America/New_York:20260218T170000
DTSTAMP:20260423T175149
CREATED:20260212T151827Z
LAST-MODIFIED:20260212T151827Z
UID:10000285-1771426800-1771434000@islandpickle.com
SUMMARY:Bingo (for everyone) with the Big Dill
DESCRIPTION:Get ready for a lively afternoon of laughs\, prizes\, and friendly competition at Island Pickle! Join us for Bingo hosted by the one and only Big Dill (a/k/a Bill)\, bringing his signature energy and humor to every round. Open to all ages – don’t miss it!
URL:https://islandpickle.com/event/bingo-for-everyone-with-the-big-dill/
LOCATION:Island Pickle\, 51 Evergreen Circle\, Mashpee\, MA\, 02649\, United States
END:VEVENT
BEGIN:VEVENT
DTSTART;TZID=America/New_York:20260217T180000
DTEND;TZID=America/New_York:20260217T210000
DTSTAMP:20260423T175149
CREATED:20260102T153922Z
LAST-MODIFIED:20260107T212847Z
UID:10000007-1771351200-1771362000@islandpickle.com
SUMMARY:Cornhole Tuesdays with Mixed Nuts
DESCRIPTION:Join us for Cornhole every Tuesday – hosted by Mixed Nuts! Open to the public – the first 28 people (2 man teams) who sign up will play. \n$15 per player \nDownload the Scoreholio app and sign up your team today! \n  \n 
URL:https://islandpickle.com/event/cornhole-tuesdays-with-mixed-nuts/2026-02-17/
LOCATION:MA
END:VEVENT
BEGIN:VEVENT
DTSTART;TZID=America/New_York:20260214T180000
DTEND;TZID=America/New_York:20260214T210000
DTSTAMP:20260423T175149
CREATED:20260102T154132Z
LAST-MODIFIED:20260120T201642Z
UID:10000263-1771092000-1771102800@islandpickle.com
SUMMARY:Wine & Nine Golf
DESCRIPTION:Bring your favorite golf partner for our first ever Wine & Nine golf event. Compete in a 9 hole golf tournament on our Trackman simulators while you enjoy complimentary charcuterie board\, and then relax and enjoy an Valentine’s-inspired\, 3-course dinner and wine tasting. $200 per couple. Sign up using the Island Pickle app.
URL:https://islandpickle.com/event/winter-wine-dine-golf/
LOCATION:MA
END:VEVENT
BEGIN:VEVENT
DTSTART;TZID=America/New_York:20260214T110000
DTEND;TZID=America/New_York:20260214T150000
DTSTAMP:20260423T175149
CREATED:20260127T202015Z
LAST-MODIFIED:20260127T202702Z
UID:10000279-1771066800-1771081200@islandpickle.com
SUMMARY:Callaway Performance Fitting Event
DESCRIPTION:We are excited to hold a Callaway Performance Fitting Event at Island Pickle on February 14th\, from 11:00am – 3:00pm. \nGet Ready To Make The Leap With Quantum\nWork one-on-one with Callaway’s expert fitters to dial in the newest Callaway Quantum Driver with Tri-Force Face\, precision-built to maximize your distance\, speed\, and consistency. Sign up for your fitting today! \nA Quantum driver fitting with an expert fitter and the latest technology are designed to help you not only achieve more distance\, but also more consistency. \nSign up today!
URL:https://islandpickle.com/event/callaway-performance-fitting-event/
LOCATION:Island Pickle\, 51 Evergreen Circle\, Mashpee\, MA\, 02649\, United States
END:VEVENT
BEGIN:VEVENT
DTSTART;TZID=America/New_York:20260210T180000
DTEND;TZID=America/New_York:20260210T210000
DTSTAMP:20260423T175149
CREATED:20260102T153922Z
LAST-MODIFIED:20260107T212847Z
UID:10000006-1770746400-1770757200@islandpickle.com
SUMMARY:Cornhole Tuesdays with Mixed Nuts
DESCRIPTION:Join us for Cornhole every Tuesday – hosted by Mixed Nuts! Open to the public – the first 28 people (2 man teams) who sign up will play. \n$15 per player \nDownload the Scoreholio app and sign up your team today! \n  \n 
URL:https://islandpickle.com/event/cornhole-tuesdays-with-mixed-nuts/2026-02-10/
LOCATION:MA
END:VEVENT
BEGIN:VEVENT
DTSTART;TZID=America/New_York:20260208T170000
DTEND;TZID=America/New_York:20260208T220000
DTSTAMP:20260423T175149
CREATED:20260203T012145Z
LAST-MODIFIED:20260203T012237Z
UID:10000283-1770570000-1770588000@islandpickle.com
SUMMARY:Super Bowl Watch Party
DESCRIPTION:Golf Simulator SUPER BOWL LX Watch Party\n\n\nWatch the biggest game of the year in your own private golf simulator bay for up to 8 people.\nSimulator Watch Party Package – $250\n\n\nIncludes:\n\nPrivate Simulator Rental from 5PM–End of Game\n2 Dozen Wings\nChip Trio\n2 Pitchers of Beer (Kona\, Mich Ultra\, Sam Cold Snap)\nPineapple Hoisin Pork Belly Bites\nSoft Pretzel & Beer Cheese\n\n\n\nLive Entertainment | 3–6PM • Food Specials All Day\n\n\n\nLimited simulators available — reserve yours by calling the front desk (774)228-7611
URL:https://islandpickle.com/event/super-bowl-watch-party/
LOCATION:MA
END:VEVENT
BEGIN:VEVENT
DTSTART;TZID=America/New_York:20260203T180000
DTEND;TZID=America/New_York:20260203T210000
DTSTAMP:20260423T175149
CREATED:20260102T153922Z
LAST-MODIFIED:20260107T212847Z
UID:10000005-1770141600-1770152400@islandpickle.com
SUMMARY:Cornhole Tuesdays with Mixed Nuts
DESCRIPTION:Join us for Cornhole every Tuesday – hosted by Mixed Nuts! Open to the public – the first 28 people (2 man teams) who sign up will play. \n$15 per player \nDownload the Scoreholio app and sign up your team today! \n  \n 
URL:https://islandpickle.com/event/cornhole-tuesdays-with-mixed-nuts/2026-02-03/
LOCATION:MA
END:VEVENT
END:VCALENDAR