BEGIN:VCALENDAR
VERSION:2.0
PRODID:-//Island Pickle - ECPv6.15.18//NONSGML v1.0//EN
CALSCALE:GREGORIAN
METHOD:PUBLISH
X-WR-CALNAME:Island Pickle
X-ORIGINAL-URL:https://islandpickle.com
X-WR-CALDESC:Events for Island Pickle
REFRESH-INTERVAL;VALUE=DURATION:PT1H
X-Robots-Tag:noindex
X-PUBLISHED-TTL:PT1H
BEGIN:VTIMEZONE
TZID:America/New_York
BEGIN:DAYLIGHT
TZOFFSETFROM:-0500
TZOFFSETTO:-0400
TZNAME:EDT
DTSTART:20250309T070000
END:DAYLIGHT
BEGIN:STANDARD
TZOFFSETFROM:-0400
TZOFFSETTO:-0500
TZNAME:EST
DTSTART:20251102T060000
END:STANDARD
BEGIN:DAYLIGHT
TZOFFSETFROM:-0500
TZOFFSETTO:-0400
TZNAME:EDT
DTSTART:20260308T070000
END:DAYLIGHT
BEGIN:STANDARD
TZOFFSETFROM:-0400
TZOFFSETTO:-0500
TZNAME:EST
DTSTART:20261101T060000
END:STANDARD
BEGIN:DAYLIGHT
TZOFFSETFROM:-0500
TZOFFSETTO:-0400
TZNAME:EDT
DTSTART:20270314T070000
END:DAYLIGHT
BEGIN:STANDARD
TZOFFSETFROM:-0400
TZOFFSETTO:-0500
TZNAME:EST
DTSTART:20271107T060000
END:STANDARD
END:VTIMEZONE
BEGIN:VEVENT
DTSTART;TZID=America/New_York:20260513T180000
DTEND;TZID=America/New_York:20260513T200000
DTSTAMP:20260419T213520
CREATED:20260414T121418Z
LAST-MODIFIED:20260414T121418Z
UID:10001620-1778695200-1778702400@islandpickle.com
SUMMARY:Line Dancing on the Island
DESCRIPTION:Join us for a fun night of Line Dancing Night with Paula. Whether you’re a seasoned dancer or brand new\, enjoy great music\, and share a night of laughs with friends. Grab a drink\, follow the beat\, and dance the night away! $5 at the door to be part of the fun! Let’s get up and dance!
URL:https://islandpickle.com/event/line-dancing-on-the-island/2026-05-13/
LOCATION:Island Pickle\, 51 Evergreen Circle\, Mashpee\, MA\, 02649\, United States
END:VEVENT
BEGIN:VEVENT
DTSTART;TZID=America/New_York:20260515T180000
DTEND;TZID=America/New_York:20260515T210000
DTSTAMP:20260419T213520
CREATED:20260404T001353Z
LAST-MODIFIED:20260404T001353Z
UID:10001617-1778868000-1778878800@islandpickle.com
SUMMARY:Riptide Band
DESCRIPTION:Get ready for an unforgettable night of live music as Riptide Band rocks Island Pickle! Known for their high-energy performances and crowd-favorite covers\, Riptide brings the perfect mix of beachy vibes and dance-worthy hits.
URL:https://islandpickle.com/event/riptide-band/
LOCATION:MA
END:VEVENT
BEGIN:VEVENT
DTSTART;TZID=America/New_York:20260516T160000
DTEND;TZID=America/New_York:20260516T180000
DTSTAMP:20260419T213520
CREATED:20260324T211741Z
LAST-MODIFIED:20260324T211920Z
UID:10000825-1778947200-1778954400@islandpickle.com
SUMMARY:Celebrate the Patio at Island Pickle Opening
DESCRIPTION:Join us in celebrating the grand opening of the Patio at Island Pickle Patio on May 16\, 2026! Located just outside the 4-pack pickleball courts\, our new covered outdoor patio features a dedicated bar\, bar seating\, table seating\, cozy fire pits\, and casual lounge areas. With court doors opening directly onto the patio\, it’s the perfect place to relax after a match or gather with friends and family. Enjoy great food\, fresh air\, and a vibrant atmosphere all season long – from Spring through Fall. Like the Tavern and the rest of our facility\, the Patio at Island Pickle is open to the public. The grand opening will feature tastings of Hight Noon and Lucky Dog ready to drink cocktails\, along with some fun\, music and giveaways!
URL:https://islandpickle.com/event/celebrate-the-patio-at-island-pickle-opening/
LOCATION:Island Pickle\, 51 Evergreen Circle\, Mashpee\, MA\, 02649\, United States
END:VEVENT
BEGIN:VEVENT
DTSTART;TZID=America/New_York:20260516T160000
DTEND;TZID=America/New_York:20260516T180000
DTSTAMP:20260419T213520
CREATED:20260403T234409Z
LAST-MODIFIED:20260403T234809Z
UID:10001613-1778947200-1778954400@islandpickle.com
SUMMARY:High Noon & Lucky One Promo
DESCRIPTION:Join us for an exciting High Noon and Lucky One Lemonade Tasting Event. Sip\, sample\, and discover your new favorite drink while soaking up the island vibes. Whether you’re a fan of light and bubbly or sweet with a twist\, this tasting has something for everyone. Bring your friends\, enjoy great company\, and experience a lineup of summer-perfect beverages.
URL:https://islandpickle.com/event/high-noon-lucky-one-promo/
LOCATION:Island Pickle\, 51 Evergreen Circle\, Mashpee\, MA\, 02649\, United States
END:VEVENT
BEGIN:VEVENT
DTSTART;TZID=America/New_York:20260516T183000
DTEND;TZID=America/New_York:20260516T213000
DTSTAMP:20260419T213520
CREATED:20260403T235351Z
LAST-MODIFIED:20260403T235351Z
UID:10001614-1778956200-1778967000@islandpickle.com
SUMMARY:Gracie Grace and all the Goodboys
DESCRIPTION:Gracie Grace & All The Goodboys are bringing back an era of music that once seemed lost. A blues inspired\, soulful pop/rock band that was raised on good old fashioned\, down right funky rock and soul\, they are no stranger to getting down with the dirty\, lost in the sauce\, confused in the groove\, locked in the rock\, and entranced in the dance. \n  \n 
URL:https://islandpickle.com/event/gracie-grace-and-all-the-goodboys/
LOCATION:MA
END:VEVENT
BEGIN:VEVENT
DTSTART;TZID=America/New_York:20260516T190000
DTEND;TZID=America/New_York:20260516T210000
DTSTAMP:20260419T213520
CREATED:20260324T214036Z
LAST-MODIFIED:20260324T214036Z
UID:10001096-1778958000-1778965200@islandpickle.com
SUMMARY:Saturday Night Live... at the Island
DESCRIPTION:Looking for something new and fun to do on a Saturday Night? Come have fun on the Island for our Saturday Night Live event! Join us for a high-energy\, open play night with music in a fun and lively social atmosphere. This is a 21+ event. Entry includes one drink ticket. Equipment rentals are available. Come learn or watch pickleball in a fun atmosphere\, hang around for food and drink! Sign up using the Island Pickle app which is located on the homepage of Island Pickle
URL:https://islandpickle.com/event/saturday-night-live-at-the-island/2026-05-16/
LOCATION:Island Pickle\, 51 Evergreen Circle\, Mashpee\, MA\, 02649\, United States
END:VEVENT
BEGIN:VEVENT
DTSTART;TZID=America/New_York:20260518T180000
DTEND;TZID=America/New_York:20260518T200000
DTSTAMP:20260419T213520
CREATED:20260325T003704Z
LAST-MODIFIED:20260325T003704Z
UID:10001357-1779127200-1779134400@islandpickle.com
SUMMARY:Cribbage Night at Island Pickle
DESCRIPTION:Join us for a fun\, friendly and FREE Cribbage Night at Island Pickle every Monday from 6:00-8:00pm.  Open to the public and everyone is welcome. We’ll be playing a casual round-robin format where you’ll face multiple opponents and compete for the top spot of the night with the winner receiving a prize. Matches are quick\, competitive\, and perfect for a great evening out. \nOpen to the public so grab a friend (or two) and come enjoy some cards\, laughs\, and a little friendly competition. But seats are limited to the first 10 players who sign up. We’re playing in the Tavern so food (and drink) is available. See you at the tables!
URL:https://islandpickle.com/event/cribbage-night-at-island-pickle/2026-05-18/
LOCATION:Island Pickle\, 51 Evergreen Circle\, Mashpee\, MA\, 02649\, United States
END:VEVENT
BEGIN:VEVENT
DTSTART;TZID=America/New_York:20260519T180000
DTEND;TZID=America/New_York:20260519T210000
DTSTAMP:20260419T213520
CREATED:20260102T153922Z
LAST-MODIFIED:20260107T212847Z
UID:10000020-1779213600-1779224400@islandpickle.com
SUMMARY:Cornhole Tuesdays with Mixed Nuts
DESCRIPTION:Join us for Cornhole every Tuesday – hosted by Mixed Nuts! Open to the public – the first 28 people (2 man teams) who sign up will play. \n$15 per player \nDownload the Scoreholio app and sign up your team today! \n  \n 
URL:https://islandpickle.com/event/cornhole-tuesdays-with-mixed-nuts/2026-05-19/
LOCATION:MA
END:VEVENT
BEGIN:VEVENT
DTSTART;TZID=America/New_York:20260523T183000
DTEND;TZID=America/New_York:20260523T213000
DTSTAMP:20260419T213520
CREATED:20260404T000457Z
LAST-MODIFIED:20260404T000701Z
UID:10001615-1779561000-1779571800@islandpickle.com
SUMMARY:Leah & Colleen
DESCRIPTION:Join us for Leah & Colleen\, an accoustic duo who’s been performing and delighting crowds all over the Cape with covers from the 60’s right through to today. They’ll even mix in a few originals.
URL:https://islandpickle.com/event/leah-colleen/2026-05-23/
LOCATION:MA
END:VEVENT
BEGIN:VEVENT
DTSTART;TZID=America/New_York:20260523T190000
DTEND;TZID=America/New_York:20260523T210000
DTSTAMP:20260419T213520
CREATED:20260324T214036Z
LAST-MODIFIED:20260324T214036Z
UID:10001097-1779562800-1779570000@islandpickle.com
SUMMARY:Saturday Night Live... at the Island
DESCRIPTION:Looking for something new and fun to do on a Saturday Night? Come have fun on the Island for our Saturday Night Live event! Join us for a high-energy\, open play night with music in a fun and lively social atmosphere. This is a 21+ event. Entry includes one drink ticket. Equipment rentals are available. Come learn or watch pickleball in a fun atmosphere\, hang around for food and drink! Sign up using the Island Pickle app which is located on the homepage of Island Pickle
URL:https://islandpickle.com/event/saturday-night-live-at-the-island/2026-05-23/
LOCATION:Island Pickle\, 51 Evergreen Circle\, Mashpee\, MA\, 02649\, United States
END:VEVENT
BEGIN:VEVENT
DTSTART;TZID=America/New_York:20260525T180000
DTEND;TZID=America/New_York:20260525T200000
DTSTAMP:20260419T213520
CREATED:20260325T003704Z
LAST-MODIFIED:20260325T003704Z
UID:10001358-1779732000-1779739200@islandpickle.com
SUMMARY:Cribbage Night at Island Pickle
DESCRIPTION:Join us for a fun\, friendly and FREE Cribbage Night at Island Pickle every Monday from 6:00-8:00pm.  Open to the public and everyone is welcome. We’ll be playing a casual round-robin format where you’ll face multiple opponents and compete for the top spot of the night with the winner receiving a prize. Matches are quick\, competitive\, and perfect for a great evening out. \nOpen to the public so grab a friend (or two) and come enjoy some cards\, laughs\, and a little friendly competition. But seats are limited to the first 10 players who sign up. We’re playing in the Tavern so food (and drink) is available. See you at the tables!
URL:https://islandpickle.com/event/cribbage-night-at-island-pickle/2026-05-25/
LOCATION:Island Pickle\, 51 Evergreen Circle\, Mashpee\, MA\, 02649\, United States
END:VEVENT
BEGIN:VEVENT
DTSTART;TZID=America/New_York:20260526T180000
DTEND;TZID=America/New_York:20260526T210000
DTSTAMP:20260419T213520
CREATED:20260102T153922Z
LAST-MODIFIED:20260107T212847Z
UID:10000021-1779818400-1779829200@islandpickle.com
SUMMARY:Cornhole Tuesdays with Mixed Nuts
DESCRIPTION:Join us for Cornhole every Tuesday – hosted by Mixed Nuts! Open to the public – the first 28 people (2 man teams) who sign up will play. \n$15 per player \nDownload the Scoreholio app and sign up your team today! \n  \n 
URL:https://islandpickle.com/event/cornhole-tuesdays-with-mixed-nuts/2026-05-26/
LOCATION:MA
END:VEVENT
BEGIN:VEVENT
DTSTART;TZID=America/New_York:20260530T190000
DTEND;TZID=America/New_York:20260530T210000
DTSTAMP:20260419T213520
CREATED:20260324T214036Z
LAST-MODIFIED:20260324T214036Z
UID:10001098-1780167600-1780174800@islandpickle.com
SUMMARY:Saturday Night Live... at the Island
DESCRIPTION:Looking for something new and fun to do on a Saturday Night? Come have fun on the Island for our Saturday Night Live event! Join us for a high-energy\, open play night with music in a fun and lively social atmosphere. This is a 21+ event. Entry includes one drink ticket. Equipment rentals are available. Come learn or watch pickleball in a fun atmosphere\, hang around for food and drink! Sign up using the Island Pickle app which is located on the homepage of Island Pickle
URL:https://islandpickle.com/event/saturday-night-live-at-the-island/2026-05-30/
LOCATION:Island Pickle\, 51 Evergreen Circle\, Mashpee\, MA\, 02649\, United States
END:VEVENT
BEGIN:VEVENT
DTSTART;TZID=America/New_York:20260601T180000
DTEND;TZID=America/New_York:20260601T200000
DTSTAMP:20260419T213520
CREATED:20260325T003704Z
LAST-MODIFIED:20260325T003704Z
UID:10001359-1780336800-1780344000@islandpickle.com
SUMMARY:Cribbage Night at Island Pickle
DESCRIPTION:Join us for a fun\, friendly and FREE Cribbage Night at Island Pickle every Monday from 6:00-8:00pm.  Open to the public and everyone is welcome. We’ll be playing a casual round-robin format where you’ll face multiple opponents and compete for the top spot of the night with the winner receiving a prize. Matches are quick\, competitive\, and perfect for a great evening out. \nOpen to the public so grab a friend (or two) and come enjoy some cards\, laughs\, and a little friendly competition. But seats are limited to the first 10 players who sign up. We’re playing in the Tavern so food (and drink) is available. See you at the tables!
URL:https://islandpickle.com/event/cribbage-night-at-island-pickle/2026-06-01/
LOCATION:Island Pickle\, 51 Evergreen Circle\, Mashpee\, MA\, 02649\, United States
END:VEVENT
BEGIN:VEVENT
DTSTART;TZID=America/New_York:20260602T180000
DTEND;TZID=America/New_York:20260602T210000
DTSTAMP:20260419T213520
CREATED:20260102T153922Z
LAST-MODIFIED:20260107T212847Z
UID:10000022-1780423200-1780434000@islandpickle.com
SUMMARY:Cornhole Tuesdays with Mixed Nuts
DESCRIPTION:Join us for Cornhole every Tuesday – hosted by Mixed Nuts! Open to the public – the first 28 people (2 man teams) who sign up will play. \n$15 per player \nDownload the Scoreholio app and sign up your team today! \n  \n 
URL:https://islandpickle.com/event/cornhole-tuesdays-with-mixed-nuts/2026-06-02/
LOCATION:MA
END:VEVENT
BEGIN:VEVENT
DTSTART;TZID=America/New_York:20260606T183000
DTEND;TZID=America/New_York:20260606T213000
DTSTAMP:20260419T213520
CREATED:20260404T000457Z
LAST-MODIFIED:20260404T000701Z
UID:10001616-1780770600-1780781400@islandpickle.com
SUMMARY:Leah & Colleen
DESCRIPTION:Join us for Leah & Colleen\, an accoustic duo who’s been performing and delighting crowds all over the Cape with covers from the 60’s right through to today. They’ll even mix in a few originals.
URL:https://islandpickle.com/event/leah-colleen/2026-06-06/
LOCATION:MA
END:VEVENT
BEGIN:VEVENT
DTSTART;TZID=America/New_York:20260606T190000
DTEND;TZID=America/New_York:20260606T210000
DTSTAMP:20260419T213520
CREATED:20260324T214036Z
LAST-MODIFIED:20260324T214036Z
UID:10001099-1780772400-1780779600@islandpickle.com
SUMMARY:Saturday Night Live... at the Island
DESCRIPTION:Looking for something new and fun to do on a Saturday Night? Come have fun on the Island for our Saturday Night Live event! Join us for a high-energy\, open play night with music in a fun and lively social atmosphere. This is a 21+ event. Entry includes one drink ticket. Equipment rentals are available. Come learn or watch pickleball in a fun atmosphere\, hang around for food and drink! Sign up using the Island Pickle app which is located on the homepage of Island Pickle
URL:https://islandpickle.com/event/saturday-night-live-at-the-island/2026-06-06/
LOCATION:Island Pickle\, 51 Evergreen Circle\, Mashpee\, MA\, 02649\, United States
END:VEVENT
BEGIN:VEVENT
DTSTART;TZID=America/New_York:20260608T180000
DTEND;TZID=America/New_York:20260608T200000
DTSTAMP:20260419T213520
CREATED:20260325T003704Z
LAST-MODIFIED:20260325T003704Z
UID:10001360-1780941600-1780948800@islandpickle.com
SUMMARY:Cribbage Night at Island Pickle
DESCRIPTION:Join us for a fun\, friendly and FREE Cribbage Night at Island Pickle every Monday from 6:00-8:00pm.  Open to the public and everyone is welcome. We’ll be playing a casual round-robin format where you’ll face multiple opponents and compete for the top spot of the night with the winner receiving a prize. Matches are quick\, competitive\, and perfect for a great evening out. \nOpen to the public so grab a friend (or two) and come enjoy some cards\, laughs\, and a little friendly competition. But seats are limited to the first 10 players who sign up. We’re playing in the Tavern so food (and drink) is available. See you at the tables!
URL:https://islandpickle.com/event/cribbage-night-at-island-pickle/2026-06-08/
LOCATION:Island Pickle\, 51 Evergreen Circle\, Mashpee\, MA\, 02649\, United States
END:VEVENT
BEGIN:VEVENT
DTSTART;TZID=America/New_York:20260609T180000
DTEND;TZID=America/New_York:20260609T210000
DTSTAMP:20260419T213520
CREATED:20260102T153922Z
LAST-MODIFIED:20260107T212847Z
UID:10000023-1781028000-1781038800@islandpickle.com
SUMMARY:Cornhole Tuesdays with Mixed Nuts
DESCRIPTION:Join us for Cornhole every Tuesday – hosted by Mixed Nuts! Open to the public – the first 28 people (2 man teams) who sign up will play. \n$15 per player \nDownload the Scoreholio app and sign up your team today! \n  \n 
URL:https://islandpickle.com/event/cornhole-tuesdays-with-mixed-nuts/2026-06-09/
LOCATION:MA
END:VEVENT
BEGIN:VEVENT
DTSTART;TZID=America/New_York:20260613T190000
DTEND;TZID=America/New_York:20260613T210000
DTSTAMP:20260419T213520
CREATED:20260324T214036Z
LAST-MODIFIED:20260324T214036Z
UID:10001100-1781377200-1781384400@islandpickle.com
SUMMARY:Saturday Night Live... at the Island
DESCRIPTION:Looking for something new and fun to do on a Saturday Night? Come have fun on the Island for our Saturday Night Live event! Join us for a high-energy\, open play night with music in a fun and lively social atmosphere. This is a 21+ event. Entry includes one drink ticket. Equipment rentals are available. Come learn or watch pickleball in a fun atmosphere\, hang around for food and drink! Sign up using the Island Pickle app which is located on the homepage of Island Pickle
URL:https://islandpickle.com/event/saturday-night-live-at-the-island/2026-06-13/
LOCATION:Island Pickle\, 51 Evergreen Circle\, Mashpee\, MA\, 02649\, United States
END:VEVENT
BEGIN:VEVENT
DTSTART;TZID=America/New_York:20260615T180000
DTEND;TZID=America/New_York:20260615T200000
DTSTAMP:20260419T213520
CREATED:20260325T003704Z
LAST-MODIFIED:20260325T003704Z
UID:10001361-1781546400-1781553600@islandpickle.com
SUMMARY:Cribbage Night at Island Pickle
DESCRIPTION:Join us for a fun\, friendly and FREE Cribbage Night at Island Pickle every Monday from 6:00-8:00pm.  Open to the public and everyone is welcome. We’ll be playing a casual round-robin format where you’ll face multiple opponents and compete for the top spot of the night with the winner receiving a prize. Matches are quick\, competitive\, and perfect for a great evening out. \nOpen to the public so grab a friend (or two) and come enjoy some cards\, laughs\, and a little friendly competition. But seats are limited to the first 10 players who sign up. We’re playing in the Tavern so food (and drink) is available. See you at the tables!
URL:https://islandpickle.com/event/cribbage-night-at-island-pickle/2026-06-15/
LOCATION:Island Pickle\, 51 Evergreen Circle\, Mashpee\, MA\, 02649\, United States
END:VEVENT
BEGIN:VEVENT
DTSTART;TZID=America/New_York:20260616T180000
DTEND;TZID=America/New_York:20260616T210000
DTSTAMP:20260419T213520
CREATED:20260102T153922Z
LAST-MODIFIED:20260107T212847Z
UID:10000024-1781632800-1781643600@islandpickle.com
SUMMARY:Cornhole Tuesdays with Mixed Nuts
DESCRIPTION:Join us for Cornhole every Tuesday – hosted by Mixed Nuts! Open to the public – the first 28 people (2 man teams) who sign up will play. \n$15 per player \nDownload the Scoreholio app and sign up your team today! \n  \n 
URL:https://islandpickle.com/event/cornhole-tuesdays-with-mixed-nuts/2026-06-16/
LOCATION:MA
END:VEVENT
BEGIN:VEVENT
DTSTART;TZID=America/New_York:20260620T190000
DTEND;TZID=America/New_York:20260620T210000
DTSTAMP:20260419T213520
CREATED:20260324T214036Z
LAST-MODIFIED:20260324T214036Z
UID:10001101-1781982000-1781989200@islandpickle.com
SUMMARY:Saturday Night Live... at the Island
DESCRIPTION:Looking for something new and fun to do on a Saturday Night? Come have fun on the Island for our Saturday Night Live event! Join us for a high-energy\, open play night with music in a fun and lively social atmosphere. This is a 21+ event. Entry includes one drink ticket. Equipment rentals are available. Come learn or watch pickleball in a fun atmosphere\, hang around for food and drink! Sign up using the Island Pickle app which is located on the homepage of Island Pickle
URL:https://islandpickle.com/event/saturday-night-live-at-the-island/2026-06-20/
LOCATION:Island Pickle\, 51 Evergreen Circle\, Mashpee\, MA\, 02649\, United States
END:VEVENT
BEGIN:VEVENT
DTSTART;TZID=America/New_York:20260622T180000
DTEND;TZID=America/New_York:20260622T200000
DTSTAMP:20260419T213520
CREATED:20260325T003704Z
LAST-MODIFIED:20260325T003704Z
UID:10001362-1782151200-1782158400@islandpickle.com
SUMMARY:Cribbage Night at Island Pickle
DESCRIPTION:Join us for a fun\, friendly and FREE Cribbage Night at Island Pickle every Monday from 6:00-8:00pm.  Open to the public and everyone is welcome. We’ll be playing a casual round-robin format where you’ll face multiple opponents and compete for the top spot of the night with the winner receiving a prize. Matches are quick\, competitive\, and perfect for a great evening out. \nOpen to the public so grab a friend (or two) and come enjoy some cards\, laughs\, and a little friendly competition. But seats are limited to the first 10 players who sign up. We’re playing in the Tavern so food (and drink) is available. See you at the tables!
URL:https://islandpickle.com/event/cribbage-night-at-island-pickle/2026-06-22/
LOCATION:Island Pickle\, 51 Evergreen Circle\, Mashpee\, MA\, 02649\, United States
END:VEVENT
BEGIN:VEVENT
DTSTART;TZID=America/New_York:20260623T180000
DTEND;TZID=America/New_York:20260623T210000
DTSTAMP:20260419T213520
CREATED:20260102T153922Z
LAST-MODIFIED:20260107T212847Z
UID:10000025-1782237600-1782248400@islandpickle.com
SUMMARY:Cornhole Tuesdays with Mixed Nuts
DESCRIPTION:Join us for Cornhole every Tuesday – hosted by Mixed Nuts! Open to the public – the first 28 people (2 man teams) who sign up will play. \n$15 per player \nDownload the Scoreholio app and sign up your team today! \n  \n 
URL:https://islandpickle.com/event/cornhole-tuesdays-with-mixed-nuts/2026-06-23/
LOCATION:MA
END:VEVENT
BEGIN:VEVENT
DTSTART;TZID=America/New_York:20260627T190000
DTEND;TZID=America/New_York:20260627T210000
DTSTAMP:20260419T213520
CREATED:20260324T214036Z
LAST-MODIFIED:20260324T214036Z
UID:10001102-1782586800-1782594000@islandpickle.com
SUMMARY:Saturday Night Live... at the Island
DESCRIPTION:Looking for something new and fun to do on a Saturday Night? Come have fun on the Island for our Saturday Night Live event! Join us for a high-energy\, open play night with music in a fun and lively social atmosphere. This is a 21+ event. Entry includes one drink ticket. Equipment rentals are available. Come learn or watch pickleball in a fun atmosphere\, hang around for food and drink! Sign up using the Island Pickle app which is located on the homepage of Island Pickle
URL:https://islandpickle.com/event/saturday-night-live-at-the-island/2026-06-27/
LOCATION:Island Pickle\, 51 Evergreen Circle\, Mashpee\, MA\, 02649\, United States
END:VEVENT
BEGIN:VEVENT
DTSTART;TZID=America/New_York:20260629T180000
DTEND;TZID=America/New_York:20260629T200000
DTSTAMP:20260419T213520
CREATED:20260325T003704Z
LAST-MODIFIED:20260325T003704Z
UID:10001363-1782756000-1782763200@islandpickle.com
SUMMARY:Cribbage Night at Island Pickle
DESCRIPTION:Join us for a fun\, friendly and FREE Cribbage Night at Island Pickle every Monday from 6:00-8:00pm.  Open to the public and everyone is welcome. We’ll be playing a casual round-robin format where you’ll face multiple opponents and compete for the top spot of the night with the winner receiving a prize. Matches are quick\, competitive\, and perfect for a great evening out. \nOpen to the public so grab a friend (or two) and come enjoy some cards\, laughs\, and a little friendly competition. But seats are limited to the first 10 players who sign up. We’re playing in the Tavern so food (and drink) is available. See you at the tables!
URL:https://islandpickle.com/event/cribbage-night-at-island-pickle/2026-06-29/
LOCATION:Island Pickle\, 51 Evergreen Circle\, Mashpee\, MA\, 02649\, United States
END:VEVENT
BEGIN:VEVENT
DTSTART;TZID=America/New_York:20260630T180000
DTEND;TZID=America/New_York:20260630T210000
DTSTAMP:20260419T213520
CREATED:20260102T153922Z
LAST-MODIFIED:20260107T212847Z
UID:10000026-1782842400-1782853200@islandpickle.com
SUMMARY:Cornhole Tuesdays with Mixed Nuts
DESCRIPTION:Join us for Cornhole every Tuesday – hosted by Mixed Nuts! Open to the public – the first 28 people (2 man teams) who sign up will play. \n$15 per player \nDownload the Scoreholio app and sign up your team today! \n  \n 
URL:https://islandpickle.com/event/cornhole-tuesdays-with-mixed-nuts/2026-06-30/
LOCATION:MA
END:VEVENT
BEGIN:VEVENT
DTSTART;TZID=America/New_York:20260704T190000
DTEND;TZID=America/New_York:20260704T210000
DTSTAMP:20260419T213520
CREATED:20260324T214036Z
LAST-MODIFIED:20260324T214036Z
UID:10001103-1783191600-1783198800@islandpickle.com
SUMMARY:Saturday Night Live... at the Island
DESCRIPTION:Looking for something new and fun to do on a Saturday Night? Come have fun on the Island for our Saturday Night Live event! Join us for a high-energy\, open play night with music in a fun and lively social atmosphere. This is a 21+ event. Entry includes one drink ticket. Equipment rentals are available. Come learn or watch pickleball in a fun atmosphere\, hang around for food and drink! Sign up using the Island Pickle app which is located on the homepage of Island Pickle
URL:https://islandpickle.com/event/saturday-night-live-at-the-island/2026-07-04/
LOCATION:Island Pickle\, 51 Evergreen Circle\, Mashpee\, MA\, 02649\, United States
END:VEVENT
BEGIN:VEVENT
DTSTART;TZID=America/New_York:20260706T180000
DTEND;TZID=America/New_York:20260706T200000
DTSTAMP:20260419T213520
CREATED:20260325T003704Z
LAST-MODIFIED:20260325T003704Z
UID:10001364-1783360800-1783368000@islandpickle.com
SUMMARY:Cribbage Night at Island Pickle
DESCRIPTION:Join us for a fun\, friendly and FREE Cribbage Night at Island Pickle every Monday from 6:00-8:00pm.  Open to the public and everyone is welcome. We’ll be playing a casual round-robin format where you’ll face multiple opponents and compete for the top spot of the night with the winner receiving a prize. Matches are quick\, competitive\, and perfect for a great evening out. \nOpen to the public so grab a friend (or two) and come enjoy some cards\, laughs\, and a little friendly competition. But seats are limited to the first 10 players who sign up. We’re playing in the Tavern so food (and drink) is available. See you at the tables!
URL:https://islandpickle.com/event/cribbage-night-at-island-pickle/2026-07-06/
LOCATION:Island Pickle\, 51 Evergreen Circle\, Mashpee\, MA\, 02649\, United States
END:VEVENT
END:VCALENDAR