BEGIN:VCALENDAR
VERSION:2.0
PRODID:-//Island Pickle - ECPv6.15.18//NONSGML v1.0//EN
CALSCALE:GREGORIAN
METHOD:PUBLISH
X-WR-CALNAME:Island Pickle
X-ORIGINAL-URL:https://islandpickle.com
X-WR-CALDESC:Events for Island Pickle
REFRESH-INTERVAL;VALUE=DURATION:PT1H
X-Robots-Tag:noindex
X-PUBLISHED-TTL:PT1H
BEGIN:VTIMEZONE
TZID:America/New_York
BEGIN:DAYLIGHT
TZOFFSETFROM:-0500
TZOFFSETTO:-0400
TZNAME:EDT
DTSTART:20250309T070000
END:DAYLIGHT
BEGIN:STANDARD
TZOFFSETFROM:-0400
TZOFFSETTO:-0500
TZNAME:EST
DTSTART:20251102T060000
END:STANDARD
BEGIN:DAYLIGHT
TZOFFSETFROM:-0500
TZOFFSETTO:-0400
TZNAME:EDT
DTSTART:20260308T070000
END:DAYLIGHT
BEGIN:STANDARD
TZOFFSETFROM:-0400
TZOFFSETTO:-0500
TZNAME:EST
DTSTART:20261101T060000
END:STANDARD
BEGIN:DAYLIGHT
TZOFFSETFROM:-0500
TZOFFSETTO:-0400
TZNAME:EDT
DTSTART:20270314T070000
END:DAYLIGHT
BEGIN:STANDARD
TZOFFSETFROM:-0400
TZOFFSETTO:-0500
TZNAME:EST
DTSTART:20271107T060000
END:STANDARD
END:VTIMEZONE
BEGIN:VEVENT
DTSTART;TZID=America/New_York:20260428T180000
DTEND;TZID=America/New_York:20260428T210000
DTSTAMP:20260423T062234
CREATED:20260102T153922Z
LAST-MODIFIED:20260107T212847Z
UID:10000017-1777399200-1777410000@islandpickle.com
SUMMARY:Cornhole Tuesdays with Mixed Nuts
DESCRIPTION:Join us for Cornhole every Tuesday – hosted by Mixed Nuts! Open to the public – the first 28 people (2 man teams) who sign up will play. \n$15 per player \nDownload the Scoreholio app and sign up your team today! \n  \n 
URL:https://islandpickle.com/event/cornhole-tuesdays-with-mixed-nuts/2026-04-28/
END:VEVENT
BEGIN:VEVENT
DTSTART;TZID=America/New_York:20260505T180000
DTEND;TZID=America/New_York:20260505T210000
DTSTAMP:20260423T062234
CREATED:20260102T153922Z
LAST-MODIFIED:20260107T212847Z
UID:10000018-1778004000-1778014800@islandpickle.com
SUMMARY:Cornhole Tuesdays with Mixed Nuts
DESCRIPTION:Join us for Cornhole every Tuesday – hosted by Mixed Nuts! Open to the public – the first 28 people (2 man teams) who sign up will play. \n$15 per player \nDownload the Scoreholio app and sign up your team today! \n  \n 
URL:https://islandpickle.com/event/cornhole-tuesdays-with-mixed-nuts/2026-05-05/
END:VEVENT
BEGIN:VEVENT
DTSTART;TZID=America/New_York:20260512T180000
DTEND;TZID=America/New_York:20260512T210000
DTSTAMP:20260423T062234
CREATED:20260102T153922Z
LAST-MODIFIED:20260107T212847Z
UID:10000019-1778608800-1778619600@islandpickle.com
SUMMARY:Cornhole Tuesdays with Mixed Nuts
DESCRIPTION:Join us for Cornhole every Tuesday – hosted by Mixed Nuts! Open to the public – the first 28 people (2 man teams) who sign up will play. \n$15 per player \nDownload the Scoreholio app and sign up your team today! \n  \n 
URL:https://islandpickle.com/event/cornhole-tuesdays-with-mixed-nuts/2026-05-12/
END:VEVENT
BEGIN:VEVENT
DTSTART;TZID=America/New_York:20260519T180000
DTEND;TZID=America/New_York:20260519T210000
DTSTAMP:20260423T062234
CREATED:20260102T153922Z
LAST-MODIFIED:20260107T212847Z
UID:10000020-1779213600-1779224400@islandpickle.com
SUMMARY:Cornhole Tuesdays with Mixed Nuts
DESCRIPTION:Join us for Cornhole every Tuesday – hosted by Mixed Nuts! Open to the public – the first 28 people (2 man teams) who sign up will play. \n$15 per player \nDownload the Scoreholio app and sign up your team today! \n  \n 
URL:https://islandpickle.com/event/cornhole-tuesdays-with-mixed-nuts/2026-05-19/
END:VEVENT
BEGIN:VEVENT
DTSTART;TZID=America/New_York:20260526T180000
DTEND;TZID=America/New_York:20260526T210000
DTSTAMP:20260423T062234
CREATED:20260102T153922Z
LAST-MODIFIED:20260107T212847Z
UID:10000021-1779818400-1779829200@islandpickle.com
SUMMARY:Cornhole Tuesdays with Mixed Nuts
DESCRIPTION:Join us for Cornhole every Tuesday – hosted by Mixed Nuts! Open to the public – the first 28 people (2 man teams) who sign up will play. \n$15 per player \nDownload the Scoreholio app and sign up your team today! \n  \n 
URL:https://islandpickle.com/event/cornhole-tuesdays-with-mixed-nuts/2026-05-26/
END:VEVENT
BEGIN:VEVENT
DTSTART;TZID=America/New_York:20260602T180000
DTEND;TZID=America/New_York:20260602T210000
DTSTAMP:20260423T062234
CREATED:20260102T153922Z
LAST-MODIFIED:20260107T212847Z
UID:10000022-1780423200-1780434000@islandpickle.com
SUMMARY:Cornhole Tuesdays with Mixed Nuts
DESCRIPTION:Join us for Cornhole every Tuesday – hosted by Mixed Nuts! Open to the public – the first 28 people (2 man teams) who sign up will play. \n$15 per player \nDownload the Scoreholio app and sign up your team today! \n  \n 
URL:https://islandpickle.com/event/cornhole-tuesdays-with-mixed-nuts/2026-06-02/
END:VEVENT
BEGIN:VEVENT
DTSTART;TZID=America/New_York:20260609T180000
DTEND;TZID=America/New_York:20260609T210000
DTSTAMP:20260423T062234
CREATED:20260102T153922Z
LAST-MODIFIED:20260107T212847Z
UID:10000023-1781028000-1781038800@islandpickle.com
SUMMARY:Cornhole Tuesdays with Mixed Nuts
DESCRIPTION:Join us for Cornhole every Tuesday – hosted by Mixed Nuts! Open to the public – the first 28 people (2 man teams) who sign up will play. \n$15 per player \nDownload the Scoreholio app and sign up your team today! \n  \n 
URL:https://islandpickle.com/event/cornhole-tuesdays-with-mixed-nuts/2026-06-09/
END:VEVENT
BEGIN:VEVENT
DTSTART;TZID=America/New_York:20260616T180000
DTEND;TZID=America/New_York:20260616T210000
DTSTAMP:20260423T062234
CREATED:20260102T153922Z
LAST-MODIFIED:20260107T212847Z
UID:10000024-1781632800-1781643600@islandpickle.com
SUMMARY:Cornhole Tuesdays with Mixed Nuts
DESCRIPTION:Join us for Cornhole every Tuesday – hosted by Mixed Nuts! Open to the public – the first 28 people (2 man teams) who sign up will play. \n$15 per player \nDownload the Scoreholio app and sign up your team today! \n  \n 
URL:https://islandpickle.com/event/cornhole-tuesdays-with-mixed-nuts/2026-06-16/
END:VEVENT
BEGIN:VEVENT
DTSTART;TZID=America/New_York:20260623T180000
DTEND;TZID=America/New_York:20260623T210000
DTSTAMP:20260423T062234
CREATED:20260102T153922Z
LAST-MODIFIED:20260107T212847Z
UID:10000025-1782237600-1782248400@islandpickle.com
SUMMARY:Cornhole Tuesdays with Mixed Nuts
DESCRIPTION:Join us for Cornhole every Tuesday – hosted by Mixed Nuts! Open to the public – the first 28 people (2 man teams) who sign up will play. \n$15 per player \nDownload the Scoreholio app and sign up your team today! \n  \n 
URL:https://islandpickle.com/event/cornhole-tuesdays-with-mixed-nuts/2026-06-23/
END:VEVENT
BEGIN:VEVENT
DTSTART;TZID=America/New_York:20260630T180000
DTEND;TZID=America/New_York:20260630T210000
DTSTAMP:20260423T062234
CREATED:20260102T153922Z
LAST-MODIFIED:20260107T212847Z
UID:10000026-1782842400-1782853200@islandpickle.com
SUMMARY:Cornhole Tuesdays with Mixed Nuts
DESCRIPTION:Join us for Cornhole every Tuesday – hosted by Mixed Nuts! Open to the public – the first 28 people (2 man teams) who sign up will play. \n$15 per player \nDownload the Scoreholio app and sign up your team today! \n  \n 
URL:https://islandpickle.com/event/cornhole-tuesdays-with-mixed-nuts/2026-06-30/
END:VEVENT
BEGIN:VEVENT
DTSTART;TZID=America/New_York:20260707T180000
DTEND;TZID=America/New_York:20260707T210000
DTSTAMP:20260423T062234
CREATED:20260102T153922Z
LAST-MODIFIED:20260107T212847Z
UID:10000027-1783447200-1783458000@islandpickle.com
SUMMARY:Cornhole Tuesdays with Mixed Nuts
DESCRIPTION:Join us for Cornhole every Tuesday – hosted by Mixed Nuts! Open to the public – the first 28 people (2 man teams) who sign up will play. \n$15 per player \nDownload the Scoreholio app and sign up your team today! \n  \n 
URL:https://islandpickle.com/event/cornhole-tuesdays-with-mixed-nuts/2026-07-07/
END:VEVENT
BEGIN:VEVENT
DTSTART;TZID=America/New_York:20260714T180000
DTEND;TZID=America/New_York:20260714T210000
DTSTAMP:20260423T062234
CREATED:20260102T153922Z
LAST-MODIFIED:20260107T212847Z
UID:10000028-1784052000-1784062800@islandpickle.com
SUMMARY:Cornhole Tuesdays with Mixed Nuts
DESCRIPTION:Join us for Cornhole every Tuesday – hosted by Mixed Nuts! Open to the public – the first 28 people (2 man teams) who sign up will play. \n$15 per player \nDownload the Scoreholio app and sign up your team today! \n  \n 
URL:https://islandpickle.com/event/cornhole-tuesdays-with-mixed-nuts/2026-07-14/
END:VEVENT
BEGIN:VEVENT
DTSTART;TZID=America/New_York:20260721T180000
DTEND;TZID=America/New_York:20260721T210000
DTSTAMP:20260423T062234
CREATED:20260102T153922Z
LAST-MODIFIED:20260107T212847Z
UID:10000029-1784656800-1784667600@islandpickle.com
SUMMARY:Cornhole Tuesdays with Mixed Nuts
DESCRIPTION:Join us for Cornhole every Tuesday – hosted by Mixed Nuts! Open to the public – the first 28 people (2 man teams) who sign up will play. \n$15 per player \nDownload the Scoreholio app and sign up your team today! \n  \n 
URL:https://islandpickle.com/event/cornhole-tuesdays-with-mixed-nuts/2026-07-21/
END:VEVENT
BEGIN:VEVENT
DTSTART;TZID=America/New_York:20260728T180000
DTEND;TZID=America/New_York:20260728T210000
DTSTAMP:20260423T062234
CREATED:20260102T153922Z
LAST-MODIFIED:20260107T212847Z
UID:10000030-1785261600-1785272400@islandpickle.com
SUMMARY:Cornhole Tuesdays with Mixed Nuts
DESCRIPTION:Join us for Cornhole every Tuesday – hosted by Mixed Nuts! Open to the public – the first 28 people (2 man teams) who sign up will play. \n$15 per player \nDownload the Scoreholio app and sign up your team today! \n  \n 
URL:https://islandpickle.com/event/cornhole-tuesdays-with-mixed-nuts/2026-07-28/
END:VEVENT
BEGIN:VEVENT
DTSTART;TZID=America/New_York:20260804T180000
DTEND;TZID=America/New_York:20260804T210000
DTSTAMP:20260423T062234
CREATED:20260102T153922Z
LAST-MODIFIED:20260107T212847Z
UID:10000031-1785866400-1785877200@islandpickle.com
SUMMARY:Cornhole Tuesdays with Mixed Nuts
DESCRIPTION:Join us for Cornhole every Tuesday – hosted by Mixed Nuts! Open to the public – the first 28 people (2 man teams) who sign up will play. \n$15 per player \nDownload the Scoreholio app and sign up your team today! \n  \n 
URL:https://islandpickle.com/event/cornhole-tuesdays-with-mixed-nuts/2026-08-04/
END:VEVENT
BEGIN:VEVENT
DTSTART;TZID=America/New_York:20260811T180000
DTEND;TZID=America/New_York:20260811T210000
DTSTAMP:20260423T062234
CREATED:20260102T153922Z
LAST-MODIFIED:20260107T212847Z
UID:10000032-1786471200-1786482000@islandpickle.com
SUMMARY:Cornhole Tuesdays with Mixed Nuts
DESCRIPTION:Join us for Cornhole every Tuesday – hosted by Mixed Nuts! Open to the public – the first 28 people (2 man teams) who sign up will play. \n$15 per player \nDownload the Scoreholio app and sign up your team today! \n  \n 
URL:https://islandpickle.com/event/cornhole-tuesdays-with-mixed-nuts/2026-08-11/
END:VEVENT
BEGIN:VEVENT
DTSTART;TZID=America/New_York:20260818T180000
DTEND;TZID=America/New_York:20260818T210000
DTSTAMP:20260423T062234
CREATED:20260102T153922Z
LAST-MODIFIED:20260107T212847Z
UID:10000033-1787076000-1787086800@islandpickle.com
SUMMARY:Cornhole Tuesdays with Mixed Nuts
DESCRIPTION:Join us for Cornhole every Tuesday – hosted by Mixed Nuts! Open to the public – the first 28 people (2 man teams) who sign up will play. \n$15 per player \nDownload the Scoreholio app and sign up your team today! \n  \n 
URL:https://islandpickle.com/event/cornhole-tuesdays-with-mixed-nuts/2026-08-18/
END:VEVENT
BEGIN:VEVENT
DTSTART;TZID=America/New_York:20260825T180000
DTEND;TZID=America/New_York:20260825T210000
DTSTAMP:20260423T062234
CREATED:20260102T153922Z
LAST-MODIFIED:20260107T212847Z
UID:10000034-1787680800-1787691600@islandpickle.com
SUMMARY:Cornhole Tuesdays with Mixed Nuts
DESCRIPTION:Join us for Cornhole every Tuesday – hosted by Mixed Nuts! Open to the public – the first 28 people (2 man teams) who sign up will play. \n$15 per player \nDownload the Scoreholio app and sign up your team today! \n  \n 
URL:https://islandpickle.com/event/cornhole-tuesdays-with-mixed-nuts/2026-08-25/
END:VEVENT
BEGIN:VEVENT
DTSTART;TZID=America/New_York:20260901T180000
DTEND;TZID=America/New_York:20260901T210000
DTSTAMP:20260423T062234
CREATED:20260102T153922Z
LAST-MODIFIED:20260107T212847Z
UID:10000035-1788285600-1788296400@islandpickle.com
SUMMARY:Cornhole Tuesdays with Mixed Nuts
DESCRIPTION:Join us for Cornhole every Tuesday – hosted by Mixed Nuts! Open to the public – the first 28 people (2 man teams) who sign up will play. \n$15 per player \nDownload the Scoreholio app and sign up your team today! \n  \n 
URL:https://islandpickle.com/event/cornhole-tuesdays-with-mixed-nuts/2026-09-01/
END:VEVENT
BEGIN:VEVENT
DTSTART;TZID=America/New_York:20260908T180000
DTEND;TZID=America/New_York:20260908T210000
DTSTAMP:20260423T062234
CREATED:20260102T153922Z
LAST-MODIFIED:20260107T212847Z
UID:10000036-1788890400-1788901200@islandpickle.com
SUMMARY:Cornhole Tuesdays with Mixed Nuts
DESCRIPTION:Join us for Cornhole every Tuesday – hosted by Mixed Nuts! Open to the public – the first 28 people (2 man teams) who sign up will play. \n$15 per player \nDownload the Scoreholio app and sign up your team today! \n  \n 
URL:https://islandpickle.com/event/cornhole-tuesdays-with-mixed-nuts/2026-09-08/
END:VEVENT
BEGIN:VEVENT
DTSTART;TZID=America/New_York:20260915T180000
DTEND;TZID=America/New_York:20260915T210000
DTSTAMP:20260423T062234
CREATED:20260102T153922Z
LAST-MODIFIED:20260107T212847Z
UID:10000037-1789495200-1789506000@islandpickle.com
SUMMARY:Cornhole Tuesdays with Mixed Nuts
DESCRIPTION:Join us for Cornhole every Tuesday – hosted by Mixed Nuts! Open to the public – the first 28 people (2 man teams) who sign up will play. \n$15 per player \nDownload the Scoreholio app and sign up your team today! \n  \n 
URL:https://islandpickle.com/event/cornhole-tuesdays-with-mixed-nuts/2026-09-15/
END:VEVENT
BEGIN:VEVENT
DTSTART;TZID=America/New_York:20260922T180000
DTEND;TZID=America/New_York:20260922T210000
DTSTAMP:20260423T062234
CREATED:20260102T153922Z
LAST-MODIFIED:20260107T212847Z
UID:10000038-1790100000-1790110800@islandpickle.com
SUMMARY:Cornhole Tuesdays with Mixed Nuts
DESCRIPTION:Join us for Cornhole every Tuesday – hosted by Mixed Nuts! Open to the public – the first 28 people (2 man teams) who sign up will play. \n$15 per player \nDownload the Scoreholio app and sign up your team today! \n  \n 
URL:https://islandpickle.com/event/cornhole-tuesdays-with-mixed-nuts/2026-09-22/
END:VEVENT
BEGIN:VEVENT
DTSTART;TZID=America/New_York:20260929T180000
DTEND;TZID=America/New_York:20260929T210000
DTSTAMP:20260423T062234
CREATED:20260102T153922Z
LAST-MODIFIED:20260107T212847Z
UID:10000039-1790704800-1790715600@islandpickle.com
SUMMARY:Cornhole Tuesdays with Mixed Nuts
DESCRIPTION:Join us for Cornhole every Tuesday – hosted by Mixed Nuts! Open to the public – the first 28 people (2 man teams) who sign up will play. \n$15 per player \nDownload the Scoreholio app and sign up your team today! \n  \n 
URL:https://islandpickle.com/event/cornhole-tuesdays-with-mixed-nuts/2026-09-29/
END:VEVENT
BEGIN:VEVENT
DTSTART;TZID=America/New_York:20261006T180000
DTEND;TZID=America/New_York:20261006T210000
DTSTAMP:20260423T062234
CREATED:20260102T153922Z
LAST-MODIFIED:20260107T212847Z
UID:10000040-1791309600-1791320400@islandpickle.com
SUMMARY:Cornhole Tuesdays with Mixed Nuts
DESCRIPTION:Join us for Cornhole every Tuesday – hosted by Mixed Nuts! Open to the public – the first 28 people (2 man teams) who sign up will play. \n$15 per player \nDownload the Scoreholio app and sign up your team today! \n  \n 
URL:https://islandpickle.com/event/cornhole-tuesdays-with-mixed-nuts/2026-10-06/
END:VEVENT
BEGIN:VEVENT
DTSTART;TZID=America/New_York:20261013T180000
DTEND;TZID=America/New_York:20261013T210000
DTSTAMP:20260423T062234
CREATED:20260102T153922Z
LAST-MODIFIED:20260107T212847Z
UID:10000041-1791914400-1791925200@islandpickle.com
SUMMARY:Cornhole Tuesdays with Mixed Nuts
DESCRIPTION:Join us for Cornhole every Tuesday – hosted by Mixed Nuts! Open to the public – the first 28 people (2 man teams) who sign up will play. \n$15 per player \nDownload the Scoreholio app and sign up your team today! \n  \n 
URL:https://islandpickle.com/event/cornhole-tuesdays-with-mixed-nuts/2026-10-13/
END:VEVENT
BEGIN:VEVENT
DTSTART;TZID=America/New_York:20261020T180000
DTEND;TZID=America/New_York:20261020T210000
DTSTAMP:20260423T062234
CREATED:20260102T153922Z
LAST-MODIFIED:20260107T212847Z
UID:10000042-1792519200-1792530000@islandpickle.com
SUMMARY:Cornhole Tuesdays with Mixed Nuts
DESCRIPTION:Join us for Cornhole every Tuesday – hosted by Mixed Nuts! Open to the public – the first 28 people (2 man teams) who sign up will play. \n$15 per player \nDownload the Scoreholio app and sign up your team today! \n  \n 
URL:https://islandpickle.com/event/cornhole-tuesdays-with-mixed-nuts/2026-10-20/
END:VEVENT
BEGIN:VEVENT
DTSTART;TZID=America/New_York:20261027T180000
DTEND;TZID=America/New_York:20261027T210000
DTSTAMP:20260423T062234
CREATED:20260102T153922Z
LAST-MODIFIED:20260107T212847Z
UID:10000043-1793124000-1793134800@islandpickle.com
SUMMARY:Cornhole Tuesdays with Mixed Nuts
DESCRIPTION:Join us for Cornhole every Tuesday – hosted by Mixed Nuts! Open to the public – the first 28 people (2 man teams) who sign up will play. \n$15 per player \nDownload the Scoreholio app and sign up your team today! \n  \n 
URL:https://islandpickle.com/event/cornhole-tuesdays-with-mixed-nuts/2026-10-27/
END:VEVENT
BEGIN:VEVENT
DTSTART;TZID=America/New_York:20261103T180000
DTEND;TZID=America/New_York:20261103T210000
DTSTAMP:20260423T062234
CREATED:20260102T153922Z
LAST-MODIFIED:20260107T212847Z
UID:10000044-1793728800-1793739600@islandpickle.com
SUMMARY:Cornhole Tuesdays with Mixed Nuts
DESCRIPTION:Join us for Cornhole every Tuesday – hosted by Mixed Nuts! Open to the public – the first 28 people (2 man teams) who sign up will play. \n$15 per player \nDownload the Scoreholio app and sign up your team today! \n  \n 
URL:https://islandpickle.com/event/cornhole-tuesdays-with-mixed-nuts/2026-11-03/
END:VEVENT
BEGIN:VEVENT
DTSTART;TZID=America/New_York:20261110T180000
DTEND;TZID=America/New_York:20261110T210000
DTSTAMP:20260423T062234
CREATED:20260102T153922Z
LAST-MODIFIED:20260107T212847Z
UID:10000045-1794333600-1794344400@islandpickle.com
SUMMARY:Cornhole Tuesdays with Mixed Nuts
DESCRIPTION:Join us for Cornhole every Tuesday – hosted by Mixed Nuts! Open to the public – the first 28 people (2 man teams) who sign up will play. \n$15 per player \nDownload the Scoreholio app and sign up your team today! \n  \n 
URL:https://islandpickle.com/event/cornhole-tuesdays-with-mixed-nuts/2026-11-10/
END:VEVENT
BEGIN:VEVENT
DTSTART;TZID=America/New_York:20261117T180000
DTEND;TZID=America/New_York:20261117T210000
DTSTAMP:20260423T062234
CREATED:20260102T153922Z
LAST-MODIFIED:20260107T212847Z
UID:10000046-1794938400-1794949200@islandpickle.com
SUMMARY:Cornhole Tuesdays with Mixed Nuts
DESCRIPTION:Join us for Cornhole every Tuesday – hosted by Mixed Nuts! Open to the public – the first 28 people (2 man teams) who sign up will play. \n$15 per player \nDownload the Scoreholio app and sign up your team today! \n  \n 
URL:https://islandpickle.com/event/cornhole-tuesdays-with-mixed-nuts/2026-11-17/
END:VEVENT
END:VCALENDAR