BEGIN:VCALENDAR
VERSION:2.0
PRODID:-//Island Pickle - ECPv6.15.18//NONSGML v1.0//EN
CALSCALE:GREGORIAN
METHOD:PUBLISH
X-WR-CALNAME:Island Pickle
X-ORIGINAL-URL:https://islandpickle.com
X-WR-CALDESC:Events for Island Pickle
REFRESH-INTERVAL;VALUE=DURATION:PT1H
X-Robots-Tag:noindex
X-PUBLISHED-TTL:PT1H
BEGIN:VTIMEZONE
TZID:America/New_York
BEGIN:DAYLIGHT
TZOFFSETFROM:-0500
TZOFFSETTO:-0400
TZNAME:EDT
DTSTART:20250309T070000
END:DAYLIGHT
BEGIN:STANDARD
TZOFFSETFROM:-0400
TZOFFSETTO:-0500
TZNAME:EST
DTSTART:20251102T060000
END:STANDARD
BEGIN:DAYLIGHT
TZOFFSETFROM:-0500
TZOFFSETTO:-0400
TZNAME:EDT
DTSTART:20260308T070000
END:DAYLIGHT
BEGIN:STANDARD
TZOFFSETFROM:-0400
TZOFFSETTO:-0500
TZNAME:EST
DTSTART:20261101T060000
END:STANDARD
BEGIN:DAYLIGHT
TZOFFSETFROM:-0500
TZOFFSETTO:-0400
TZNAME:EDT
DTSTART:20270314T070000
END:DAYLIGHT
BEGIN:STANDARD
TZOFFSETFROM:-0400
TZOFFSETTO:-0500
TZNAME:EST
DTSTART:20271107T060000
END:STANDARD
END:VTIMEZONE
BEGIN:VEVENT
DTSTART;TZID=America/New_York:20260517T150000
DTEND;TZID=America/New_York:20260517T170000
DTSTAMP:20260422T130900
CREATED:20260421T000457Z
LAST-MODIFIED:20260421T000457Z
UID:10001623-1779030000-1779037200@islandpickle.com
SUMMARY:Pickleball for Parkinson's
DESCRIPTION:FREE Fun\, Fitness and Friendship! Instruction and supervised Open Play for individuals with Parkinson’s who are steady on their feet. Pickleball aids Parkinson’s patients by improving balance\, hand-eye coordination\, and visual-spatial awareness. Wear court shoes\, equipment provided. Contact Nat@islandpickle for more information.
URL:https://islandpickle.com/event/pickleball-for-parkinsons/2026-05-17/
LOCATION:Island Pickle\, 51 Evergreen Circle\, Mashpee\, MA\, 02649\, United States
END:VEVENT
BEGIN:VEVENT
DTSTART;TZID=America/New_York:20260524T150000
DTEND;TZID=America/New_York:20260524T170000
DTSTAMP:20260422T130900
CREATED:20260421T000457Z
LAST-MODIFIED:20260421T000457Z
UID:10001624-1779634800-1779642000@islandpickle.com
SUMMARY:Pickleball for Parkinson's
DESCRIPTION:FREE Fun\, Fitness and Friendship! Instruction and supervised Open Play for individuals with Parkinson’s who are steady on their feet. Pickleball aids Parkinson’s patients by improving balance\, hand-eye coordination\, and visual-spatial awareness. Wear court shoes\, equipment provided. Contact Nat@islandpickle for more information.
URL:https://islandpickle.com/event/pickleball-for-parkinsons/2026-05-24/
LOCATION:Island Pickle\, 51 Evergreen Circle\, Mashpee\, MA\, 02649\, United States
END:VEVENT
BEGIN:VEVENT
DTSTART;TZID=America/New_York:20260531T150000
DTEND;TZID=America/New_York:20260531T170000
DTSTAMP:20260422T130900
CREATED:20260421T000457Z
LAST-MODIFIED:20260421T000457Z
UID:10001625-1780239600-1780246800@islandpickle.com
SUMMARY:Pickleball for Parkinson's
DESCRIPTION:FREE Fun\, Fitness and Friendship! Instruction and supervised Open Play for individuals with Parkinson’s who are steady on their feet. Pickleball aids Parkinson’s patients by improving balance\, hand-eye coordination\, and visual-spatial awareness. Wear court shoes\, equipment provided. Contact Nat@islandpickle for more information.
URL:https://islandpickle.com/event/pickleball-for-parkinsons/2026-05-31/
LOCATION:Island Pickle\, 51 Evergreen Circle\, Mashpee\, MA\, 02649\, United States
END:VEVENT
BEGIN:VEVENT
DTSTART;TZID=America/New_York:20260607T150000
DTEND;TZID=America/New_York:20260607T170000
DTSTAMP:20260422T130900
CREATED:20260421T000457Z
LAST-MODIFIED:20260421T000457Z
UID:10001626-1780844400-1780851600@islandpickle.com
SUMMARY:Pickleball for Parkinson's
DESCRIPTION:FREE Fun\, Fitness and Friendship! Instruction and supervised Open Play for individuals with Parkinson’s who are steady on their feet. Pickleball aids Parkinson’s patients by improving balance\, hand-eye coordination\, and visual-spatial awareness. Wear court shoes\, equipment provided. Contact Nat@islandpickle for more information.
URL:https://islandpickle.com/event/pickleball-for-parkinsons/2026-06-07/
LOCATION:Island Pickle\, 51 Evergreen Circle\, Mashpee\, MA\, 02649\, United States
END:VEVENT
BEGIN:VEVENT
DTSTART;TZID=America/New_York:20260614T150000
DTEND;TZID=America/New_York:20260614T170000
DTSTAMP:20260422T130900
CREATED:20260421T000457Z
LAST-MODIFIED:20260421T000457Z
UID:10001627-1781449200-1781456400@islandpickle.com
SUMMARY:Pickleball for Parkinson's
DESCRIPTION:FREE Fun\, Fitness and Friendship! Instruction and supervised Open Play for individuals with Parkinson’s who are steady on their feet. Pickleball aids Parkinson’s patients by improving balance\, hand-eye coordination\, and visual-spatial awareness. Wear court shoes\, equipment provided. Contact Nat@islandpickle for more information.
URL:https://islandpickle.com/event/pickleball-for-parkinsons/2026-06-14/
LOCATION:Island Pickle\, 51 Evergreen Circle\, Mashpee\, MA\, 02649\, United States
END:VEVENT
BEGIN:VEVENT
DTSTART;TZID=America/New_York:20260621T150000
DTEND;TZID=America/New_York:20260621T170000
DTSTAMP:20260422T130900
CREATED:20260421T000457Z
LAST-MODIFIED:20260421T000457Z
UID:10001628-1782054000-1782061200@islandpickle.com
SUMMARY:Pickleball for Parkinson's
DESCRIPTION:FREE Fun\, Fitness and Friendship! Instruction and supervised Open Play for individuals with Parkinson’s who are steady on their feet. Pickleball aids Parkinson’s patients by improving balance\, hand-eye coordination\, and visual-spatial awareness. Wear court shoes\, equipment provided. Contact Nat@islandpickle for more information.
URL:https://islandpickle.com/event/pickleball-for-parkinsons/2026-06-21/
LOCATION:Island Pickle\, 51 Evergreen Circle\, Mashpee\, MA\, 02649\, United States
END:VEVENT
BEGIN:VEVENT
DTSTART;TZID=America/New_York:20260628T150000
DTEND;TZID=America/New_York:20260628T170000
DTSTAMP:20260422T130900
CREATED:20260421T000457Z
LAST-MODIFIED:20260421T000457Z
UID:10001629-1782658800-1782666000@islandpickle.com
SUMMARY:Pickleball for Parkinson's
DESCRIPTION:FREE Fun\, Fitness and Friendship! Instruction and supervised Open Play for individuals with Parkinson’s who are steady on their feet. Pickleball aids Parkinson’s patients by improving balance\, hand-eye coordination\, and visual-spatial awareness. Wear court shoes\, equipment provided. Contact Nat@islandpickle for more information.
URL:https://islandpickle.com/event/pickleball-for-parkinsons/2026-06-28/
LOCATION:Island Pickle\, 51 Evergreen Circle\, Mashpee\, MA\, 02649\, United States
END:VEVENT
BEGIN:VEVENT
DTSTART;TZID=America/New_York:20260705T150000
DTEND;TZID=America/New_York:20260705T170000
DTSTAMP:20260422T130900
CREATED:20260421T000457Z
LAST-MODIFIED:20260421T000457Z
UID:10001630-1783263600-1783270800@islandpickle.com
SUMMARY:Pickleball for Parkinson's
DESCRIPTION:FREE Fun\, Fitness and Friendship! Instruction and supervised Open Play for individuals with Parkinson’s who are steady on their feet. Pickleball aids Parkinson’s patients by improving balance\, hand-eye coordination\, and visual-spatial awareness. Wear court shoes\, equipment provided. Contact Nat@islandpickle for more information.
URL:https://islandpickle.com/event/pickleball-for-parkinsons/2026-07-05/
LOCATION:Island Pickle\, 51 Evergreen Circle\, Mashpee\, MA\, 02649\, United States
END:VEVENT
BEGIN:VEVENT
DTSTART;TZID=America/New_York:20260712T150000
DTEND;TZID=America/New_York:20260712T170000
DTSTAMP:20260422T130900
CREATED:20260421T000457Z
LAST-MODIFIED:20260421T000457Z
UID:10001631-1783868400-1783875600@islandpickle.com
SUMMARY:Pickleball for Parkinson's
DESCRIPTION:FREE Fun\, Fitness and Friendship! Instruction and supervised Open Play for individuals with Parkinson’s who are steady on their feet. Pickleball aids Parkinson’s patients by improving balance\, hand-eye coordination\, and visual-spatial awareness. Wear court shoes\, equipment provided. Contact Nat@islandpickle for more information.
URL:https://islandpickle.com/event/pickleball-for-parkinsons/2026-07-12/
LOCATION:Island Pickle\, 51 Evergreen Circle\, Mashpee\, MA\, 02649\, United States
END:VEVENT
BEGIN:VEVENT
DTSTART;TZID=America/New_York:20260719T150000
DTEND;TZID=America/New_York:20260719T170000
DTSTAMP:20260422T130900
CREATED:20260421T000457Z
LAST-MODIFIED:20260421T000457Z
UID:10001632-1784473200-1784480400@islandpickle.com
SUMMARY:Pickleball for Parkinson's
DESCRIPTION:FREE Fun\, Fitness and Friendship! Instruction and supervised Open Play for individuals with Parkinson’s who are steady on their feet. Pickleball aids Parkinson’s patients by improving balance\, hand-eye coordination\, and visual-spatial awareness. Wear court shoes\, equipment provided. Contact Nat@islandpickle for more information.
URL:https://islandpickle.com/event/pickleball-for-parkinsons/2026-07-19/
LOCATION:Island Pickle\, 51 Evergreen Circle\, Mashpee\, MA\, 02649\, United States
END:VEVENT
BEGIN:VEVENT
DTSTART;TZID=America/New_York:20260726T150000
DTEND;TZID=America/New_York:20260726T170000
DTSTAMP:20260422T130900
CREATED:20260421T000457Z
LAST-MODIFIED:20260421T000457Z
UID:10001633-1785078000-1785085200@islandpickle.com
SUMMARY:Pickleball for Parkinson's
DESCRIPTION:FREE Fun\, Fitness and Friendship! Instruction and supervised Open Play for individuals with Parkinson’s who are steady on their feet. Pickleball aids Parkinson’s patients by improving balance\, hand-eye coordination\, and visual-spatial awareness. Wear court shoes\, equipment provided. Contact Nat@islandpickle for more information.
URL:https://islandpickle.com/event/pickleball-for-parkinsons/2026-07-26/
LOCATION:Island Pickle\, 51 Evergreen Circle\, Mashpee\, MA\, 02649\, United States
END:VEVENT
BEGIN:VEVENT
DTSTART;TZID=America/New_York:20260802T150000
DTEND;TZID=America/New_York:20260802T170000
DTSTAMP:20260422T130900
CREATED:20260421T000457Z
LAST-MODIFIED:20260421T000457Z
UID:10001634-1785682800-1785690000@islandpickle.com
SUMMARY:Pickleball for Parkinson's
DESCRIPTION:FREE Fun\, Fitness and Friendship! Instruction and supervised Open Play for individuals with Parkinson’s who are steady on their feet. Pickleball aids Parkinson’s patients by improving balance\, hand-eye coordination\, and visual-spatial awareness. Wear court shoes\, equipment provided. Contact Nat@islandpickle for more information.
URL:https://islandpickle.com/event/pickleball-for-parkinsons/2026-08-02/
LOCATION:Island Pickle\, 51 Evergreen Circle\, Mashpee\, MA\, 02649\, United States
END:VEVENT
BEGIN:VEVENT
DTSTART;TZID=America/New_York:20260809T150000
DTEND;TZID=America/New_York:20260809T170000
DTSTAMP:20260422T130900
CREATED:20260421T000457Z
LAST-MODIFIED:20260421T000457Z
UID:10001635-1786287600-1786294800@islandpickle.com
SUMMARY:Pickleball for Parkinson's
DESCRIPTION:FREE Fun\, Fitness and Friendship! Instruction and supervised Open Play for individuals with Parkinson’s who are steady on their feet. Pickleball aids Parkinson’s patients by improving balance\, hand-eye coordination\, and visual-spatial awareness. Wear court shoes\, equipment provided. Contact Nat@islandpickle for more information.
URL:https://islandpickle.com/event/pickleball-for-parkinsons/2026-08-09/
LOCATION:Island Pickle\, 51 Evergreen Circle\, Mashpee\, MA\, 02649\, United States
END:VEVENT
BEGIN:VEVENT
DTSTART;TZID=America/New_York:20260816T150000
DTEND;TZID=America/New_York:20260816T170000
DTSTAMP:20260422T130900
CREATED:20260421T000457Z
LAST-MODIFIED:20260421T000457Z
UID:10001636-1786892400-1786899600@islandpickle.com
SUMMARY:Pickleball for Parkinson's
DESCRIPTION:FREE Fun\, Fitness and Friendship! Instruction and supervised Open Play for individuals with Parkinson’s who are steady on their feet. Pickleball aids Parkinson’s patients by improving balance\, hand-eye coordination\, and visual-spatial awareness. Wear court shoes\, equipment provided. Contact Nat@islandpickle for more information.
URL:https://islandpickle.com/event/pickleball-for-parkinsons/2026-08-16/
LOCATION:Island Pickle\, 51 Evergreen Circle\, Mashpee\, MA\, 02649\, United States
END:VEVENT
BEGIN:VEVENT
DTSTART;TZID=America/New_York:20260823T150000
DTEND;TZID=America/New_York:20260823T170000
DTSTAMP:20260422T130900
CREATED:20260421T000457Z
LAST-MODIFIED:20260421T000457Z
UID:10001637-1787497200-1787504400@islandpickle.com
SUMMARY:Pickleball for Parkinson's
DESCRIPTION:FREE Fun\, Fitness and Friendship! Instruction and supervised Open Play for individuals with Parkinson’s who are steady on their feet. Pickleball aids Parkinson’s patients by improving balance\, hand-eye coordination\, and visual-spatial awareness. Wear court shoes\, equipment provided. Contact Nat@islandpickle for more information.
URL:https://islandpickle.com/event/pickleball-for-parkinsons/2026-08-23/
LOCATION:Island Pickle\, 51 Evergreen Circle\, Mashpee\, MA\, 02649\, United States
END:VEVENT
BEGIN:VEVENT
DTSTART;TZID=America/New_York:20260830T150000
DTEND;TZID=America/New_York:20260830T170000
DTSTAMP:20260422T130900
CREATED:20260421T000457Z
LAST-MODIFIED:20260421T000457Z
UID:10001638-1788102000-1788109200@islandpickle.com
SUMMARY:Pickleball for Parkinson's
DESCRIPTION:FREE Fun\, Fitness and Friendship! Instruction and supervised Open Play for individuals with Parkinson’s who are steady on their feet. Pickleball aids Parkinson’s patients by improving balance\, hand-eye coordination\, and visual-spatial awareness. Wear court shoes\, equipment provided. Contact Nat@islandpickle for more information.
URL:https://islandpickle.com/event/pickleball-for-parkinsons/2026-08-30/
LOCATION:Island Pickle\, 51 Evergreen Circle\, Mashpee\, MA\, 02649\, United States
END:VEVENT
BEGIN:VEVENT
DTSTART;TZID=America/New_York:20260906T150000
DTEND;TZID=America/New_York:20260906T170000
DTSTAMP:20260422T130900
CREATED:20260421T000457Z
LAST-MODIFIED:20260421T000457Z
UID:10001639-1788706800-1788714000@islandpickle.com
SUMMARY:Pickleball for Parkinson's
DESCRIPTION:FREE Fun\, Fitness and Friendship! Instruction and supervised Open Play for individuals with Parkinson’s who are steady on their feet. Pickleball aids Parkinson’s patients by improving balance\, hand-eye coordination\, and visual-spatial awareness. Wear court shoes\, equipment provided. Contact Nat@islandpickle for more information.
URL:https://islandpickle.com/event/pickleball-for-parkinsons/2026-09-06/
LOCATION:Island Pickle\, 51 Evergreen Circle\, Mashpee\, MA\, 02649\, United States
END:VEVENT
BEGIN:VEVENT
DTSTART;TZID=America/New_York:20260913T150000
DTEND;TZID=America/New_York:20260913T170000
DTSTAMP:20260422T130900
CREATED:20260421T000457Z
LAST-MODIFIED:20260421T000457Z
UID:10001640-1789311600-1789318800@islandpickle.com
SUMMARY:Pickleball for Parkinson's
DESCRIPTION:FREE Fun\, Fitness and Friendship! Instruction and supervised Open Play for individuals with Parkinson’s who are steady on their feet. Pickleball aids Parkinson’s patients by improving balance\, hand-eye coordination\, and visual-spatial awareness. Wear court shoes\, equipment provided. Contact Nat@islandpickle for more information.
URL:https://islandpickle.com/event/pickleball-for-parkinsons/2026-09-13/
LOCATION:Island Pickle\, 51 Evergreen Circle\, Mashpee\, MA\, 02649\, United States
END:VEVENT
BEGIN:VEVENT
DTSTART;TZID=America/New_York:20260920T150000
DTEND;TZID=America/New_York:20260920T170000
DTSTAMP:20260422T130900
CREATED:20260421T000457Z
LAST-MODIFIED:20260421T000457Z
UID:10001641-1789916400-1789923600@islandpickle.com
SUMMARY:Pickleball for Parkinson's
DESCRIPTION:FREE Fun\, Fitness and Friendship! Instruction and supervised Open Play for individuals with Parkinson’s who are steady on their feet. Pickleball aids Parkinson’s patients by improving balance\, hand-eye coordination\, and visual-spatial awareness. Wear court shoes\, equipment provided. Contact Nat@islandpickle for more information.
URL:https://islandpickle.com/event/pickleball-for-parkinsons/2026-09-20/
LOCATION:Island Pickle\, 51 Evergreen Circle\, Mashpee\, MA\, 02649\, United States
END:VEVENT
BEGIN:VEVENT
DTSTART;TZID=America/New_York:20260927T150000
DTEND;TZID=America/New_York:20260927T170000
DTSTAMP:20260422T130900
CREATED:20260421T000457Z
LAST-MODIFIED:20260421T000457Z
UID:10001642-1790521200-1790528400@islandpickle.com
SUMMARY:Pickleball for Parkinson's
DESCRIPTION:FREE Fun\, Fitness and Friendship! Instruction and supervised Open Play for individuals with Parkinson’s who are steady on their feet. Pickleball aids Parkinson’s patients by improving balance\, hand-eye coordination\, and visual-spatial awareness. Wear court shoes\, equipment provided. Contact Nat@islandpickle for more information.
URL:https://islandpickle.com/event/pickleball-for-parkinsons/2026-09-27/
LOCATION:Island Pickle\, 51 Evergreen Circle\, Mashpee\, MA\, 02649\, United States
END:VEVENT
BEGIN:VEVENT
DTSTART;TZID=America/New_York:20261004T150000
DTEND;TZID=America/New_York:20261004T170000
DTSTAMP:20260422T130900
CREATED:20260421T000457Z
LAST-MODIFIED:20260421T000457Z
UID:10001643-1791126000-1791133200@islandpickle.com
SUMMARY:Pickleball for Parkinson's
DESCRIPTION:FREE Fun\, Fitness and Friendship! Instruction and supervised Open Play for individuals with Parkinson’s who are steady on their feet. Pickleball aids Parkinson’s patients by improving balance\, hand-eye coordination\, and visual-spatial awareness. Wear court shoes\, equipment provided. Contact Nat@islandpickle for more information.
URL:https://islandpickle.com/event/pickleball-for-parkinsons/2026-10-04/
LOCATION:Island Pickle\, 51 Evergreen Circle\, Mashpee\, MA\, 02649\, United States
END:VEVENT
BEGIN:VEVENT
DTSTART;TZID=America/New_York:20261011T150000
DTEND;TZID=America/New_York:20261011T170000
DTSTAMP:20260422T130900
CREATED:20260421T000457Z
LAST-MODIFIED:20260421T000457Z
UID:10001644-1791730800-1791738000@islandpickle.com
SUMMARY:Pickleball for Parkinson's
DESCRIPTION:FREE Fun\, Fitness and Friendship! Instruction and supervised Open Play for individuals with Parkinson’s who are steady on their feet. Pickleball aids Parkinson’s patients by improving balance\, hand-eye coordination\, and visual-spatial awareness. Wear court shoes\, equipment provided. Contact Nat@islandpickle for more information.
URL:https://islandpickle.com/event/pickleball-for-parkinsons/2026-10-11/
LOCATION:Island Pickle\, 51 Evergreen Circle\, Mashpee\, MA\, 02649\, United States
END:VEVENT
BEGIN:VEVENT
DTSTART;TZID=America/New_York:20261018T150000
DTEND;TZID=America/New_York:20261018T170000
DTSTAMP:20260422T130900
CREATED:20260421T000457Z
LAST-MODIFIED:20260421T000457Z
UID:10001645-1792335600-1792342800@islandpickle.com
SUMMARY:Pickleball for Parkinson's
DESCRIPTION:FREE Fun\, Fitness and Friendship! Instruction and supervised Open Play for individuals with Parkinson’s who are steady on their feet. Pickleball aids Parkinson’s patients by improving balance\, hand-eye coordination\, and visual-spatial awareness. Wear court shoes\, equipment provided. Contact Nat@islandpickle for more information.
URL:https://islandpickle.com/event/pickleball-for-parkinsons/2026-10-18/
LOCATION:Island Pickle\, 51 Evergreen Circle\, Mashpee\, MA\, 02649\, United States
END:VEVENT
BEGIN:VEVENT
DTSTART;TZID=America/New_York:20261025T150000
DTEND;TZID=America/New_York:20261025T170000
DTSTAMP:20260422T130900
CREATED:20260421T000457Z
LAST-MODIFIED:20260421T000457Z
UID:10001646-1792940400-1792947600@islandpickle.com
SUMMARY:Pickleball for Parkinson's
DESCRIPTION:FREE Fun\, Fitness and Friendship! Instruction and supervised Open Play for individuals with Parkinson’s who are steady on their feet. Pickleball aids Parkinson’s patients by improving balance\, hand-eye coordination\, and visual-spatial awareness. Wear court shoes\, equipment provided. Contact Nat@islandpickle for more information.
URL:https://islandpickle.com/event/pickleball-for-parkinsons/2026-10-25/
LOCATION:Island Pickle\, 51 Evergreen Circle\, Mashpee\, MA\, 02649\, United States
END:VEVENT
BEGIN:VEVENT
DTSTART;TZID=America/New_York:20261101T150000
DTEND;TZID=America/New_York:20261101T170000
DTSTAMP:20260422T130900
CREATED:20260421T000457Z
LAST-MODIFIED:20260421T000457Z
UID:10001647-1793545200-1793552400@islandpickle.com
SUMMARY:Pickleball for Parkinson's
DESCRIPTION:FREE Fun\, Fitness and Friendship! Instruction and supervised Open Play for individuals with Parkinson’s who are steady on their feet. Pickleball aids Parkinson’s patients by improving balance\, hand-eye coordination\, and visual-spatial awareness. Wear court shoes\, equipment provided. Contact Nat@islandpickle for more information.
URL:https://islandpickle.com/event/pickleball-for-parkinsons/2026-11-01/
LOCATION:Island Pickle\, 51 Evergreen Circle\, Mashpee\, MA\, 02649\, United States
END:VEVENT
BEGIN:VEVENT
DTSTART;TZID=America/New_York:20261108T150000
DTEND;TZID=America/New_York:20261108T170000
DTSTAMP:20260422T130900
CREATED:20260421T000457Z
LAST-MODIFIED:20260421T000457Z
UID:10001648-1794150000-1794157200@islandpickle.com
SUMMARY:Pickleball for Parkinson's
DESCRIPTION:FREE Fun\, Fitness and Friendship! Instruction and supervised Open Play for individuals with Parkinson’s who are steady on their feet. Pickleball aids Parkinson’s patients by improving balance\, hand-eye coordination\, and visual-spatial awareness. Wear court shoes\, equipment provided. Contact Nat@islandpickle for more information.
URL:https://islandpickle.com/event/pickleball-for-parkinsons/2026-11-08/
LOCATION:Island Pickle\, 51 Evergreen Circle\, Mashpee\, MA\, 02649\, United States
END:VEVENT
BEGIN:VEVENT
DTSTART;TZID=America/New_York:20261115T150000
DTEND;TZID=America/New_York:20261115T170000
DTSTAMP:20260422T130900
CREATED:20260421T000457Z
LAST-MODIFIED:20260421T000457Z
UID:10001649-1794754800-1794762000@islandpickle.com
SUMMARY:Pickleball for Parkinson's
DESCRIPTION:FREE Fun\, Fitness and Friendship! Instruction and supervised Open Play for individuals with Parkinson’s who are steady on their feet. Pickleball aids Parkinson’s patients by improving balance\, hand-eye coordination\, and visual-spatial awareness. Wear court shoes\, equipment provided. Contact Nat@islandpickle for more information.
URL:https://islandpickle.com/event/pickleball-for-parkinsons/2026-11-15/
LOCATION:Island Pickle\, 51 Evergreen Circle\, Mashpee\, MA\, 02649\, United States
END:VEVENT
BEGIN:VEVENT
DTSTART;TZID=America/New_York:20261122T150000
DTEND;TZID=America/New_York:20261122T170000
DTSTAMP:20260422T130900
CREATED:20260421T000457Z
LAST-MODIFIED:20260421T000457Z
UID:10001650-1795359600-1795366800@islandpickle.com
SUMMARY:Pickleball for Parkinson's
DESCRIPTION:FREE Fun\, Fitness and Friendship! Instruction and supervised Open Play for individuals with Parkinson’s who are steady on their feet. Pickleball aids Parkinson’s patients by improving balance\, hand-eye coordination\, and visual-spatial awareness. Wear court shoes\, equipment provided. Contact Nat@islandpickle for more information.
URL:https://islandpickle.com/event/pickleball-for-parkinsons/2026-11-22/
LOCATION:Island Pickle\, 51 Evergreen Circle\, Mashpee\, MA\, 02649\, United States
END:VEVENT
BEGIN:VEVENT
DTSTART;TZID=America/New_York:20261129T150000
DTEND;TZID=America/New_York:20261129T170000
DTSTAMP:20260422T130900
CREATED:20260421T000457Z
LAST-MODIFIED:20260421T000457Z
UID:10001651-1795964400-1795971600@islandpickle.com
SUMMARY:Pickleball for Parkinson's
DESCRIPTION:FREE Fun\, Fitness and Friendship! Instruction and supervised Open Play for individuals with Parkinson’s who are steady on their feet. Pickleball aids Parkinson’s patients by improving balance\, hand-eye coordination\, and visual-spatial awareness. Wear court shoes\, equipment provided. Contact Nat@islandpickle for more information.
URL:https://islandpickle.com/event/pickleball-for-parkinsons/2026-11-29/
LOCATION:Island Pickle\, 51 Evergreen Circle\, Mashpee\, MA\, 02649\, United States
END:VEVENT
BEGIN:VEVENT
DTSTART;TZID=America/New_York:20261206T150000
DTEND;TZID=America/New_York:20261206T170000
DTSTAMP:20260422T130900
CREATED:20260421T000457Z
LAST-MODIFIED:20260421T000457Z
UID:10001652-1796569200-1796576400@islandpickle.com
SUMMARY:Pickleball for Parkinson's
DESCRIPTION:FREE Fun\, Fitness and Friendship! Instruction and supervised Open Play for individuals with Parkinson’s who are steady on their feet. Pickleball aids Parkinson’s patients by improving balance\, hand-eye coordination\, and visual-spatial awareness. Wear court shoes\, equipment provided. Contact Nat@islandpickle for more information.
URL:https://islandpickle.com/event/pickleball-for-parkinsons/2026-12-06/
LOCATION:Island Pickle\, 51 Evergreen Circle\, Mashpee\, MA\, 02649\, United States
END:VEVENT
END:VCALENDAR