BEGIN:VCALENDAR
VERSION:2.0
PRODID:-//Island Pickle - ECPv6.15.18//NONSGML v1.0//EN
CALSCALE:GREGORIAN
METHOD:PUBLISH
X-WR-CALNAME:Island Pickle
X-ORIGINAL-URL:https://islandpickle.com
X-WR-CALDESC:Events for Island Pickle
REFRESH-INTERVAL;VALUE=DURATION:PT1H
X-Robots-Tag:noindex
X-PUBLISHED-TTL:PT1H
BEGIN:VTIMEZONE
TZID:America/New_York
BEGIN:DAYLIGHT
TZOFFSETFROM:-0500
TZOFFSETTO:-0400
TZNAME:EDT
DTSTART:20260308T070000
END:DAYLIGHT
BEGIN:STANDARD
TZOFFSETFROM:-0400
TZOFFSETTO:-0500
TZNAME:EST
DTSTART:20261101T060000
END:STANDARD
BEGIN:DAYLIGHT
TZOFFSETFROM:-0500
TZOFFSETTO:-0400
TZNAME:EDT
DTSTART:20270314T070000
END:DAYLIGHT
BEGIN:STANDARD
TZOFFSETFROM:-0400
TZOFFSETTO:-0500
TZNAME:EST
DTSTART:20271107T060000
END:STANDARD
BEGIN:DAYLIGHT
TZOFFSETFROM:-0500
TZOFFSETTO:-0400
TZNAME:EDT
DTSTART:20280312T070000
END:DAYLIGHT
BEGIN:STANDARD
TZOFFSETFROM:-0400
TZOFFSETTO:-0500
TZNAME:EST
DTSTART:20281105T060000
END:STANDARD
END:VTIMEZONE
BEGIN:VEVENT
DTSTART;TZID=America/New_York:20270417T190000
DTEND;TZID=America/New_York:20270417T210000
DTSTAMP:20260422T223226
CREATED:20260324T214036Z
LAST-MODIFIED:20260324T214036Z
UID:10001144-1807988400-1807995600@islandpickle.com
SUMMARY:Saturday Night Live... at the Island
DESCRIPTION:Looking for something new and fun to do on a Saturday Night? Come have fun on the Island for our Saturday Night Live event! Join us for a high-energy\, open play night with music in a fun and lively social atmosphere. This is a 21+ event. Entry includes one drink ticket. Equipment rentals are available. Come learn or watch pickleball in a fun atmosphere\, hang around for food and drink! Sign up using the Island Pickle app which is located on the homepage of Island Pickle
URL:https://islandpickle.com/event/saturday-night-live-at-the-island/2027-04-17/
LOCATION:Island Pickle\, 51 Evergreen Circle\, Mashpee\, MA\, 02649\, United States
END:VEVENT
BEGIN:VEVENT
DTSTART;TZID=America/New_York:20270418T150000
DTEND;TZID=America/New_York:20270418T170000
DTSTAMP:20260422T223226
CREATED:20260421T000457Z
LAST-MODIFIED:20260421T000457Z
UID:10001671-1808060400-1808067600@islandpickle.com
SUMMARY:Pickleball for Parkinson's
DESCRIPTION:FREE Fun\, Fitness and Friendship! Instruction and supervised Open Play for individuals with Parkinson’s who are steady on their feet. Pickleball aids Parkinson’s patients by improving balance\, hand-eye coordination\, and visual-spatial awareness. Wear court shoes\, equipment provided. Contact Nat@islandpickle for more information.
URL:https://islandpickle.com/event/pickleball-for-parkinsons/2027-04-18/
LOCATION:Island Pickle\, 51 Evergreen Circle\, Mashpee\, MA\, 02649\, United States
END:VEVENT
BEGIN:VEVENT
DTSTART;TZID=America/New_York:20270419T180000
DTEND;TZID=America/New_York:20270419T200000
DTSTAMP:20260422T223226
CREATED:20260325T003704Z
LAST-MODIFIED:20260325T003704Z
UID:10001405-1808157600-1808164800@islandpickle.com
SUMMARY:Cribbage Night at Island Pickle
DESCRIPTION:Join us for a fun\, friendly and FREE Cribbage Night at Island Pickle every Monday from 6:00-8:00pm.  Open to the public and everyone is welcome. We’ll be playing a casual round-robin format where you’ll face multiple opponents and compete for the top spot of the night with the winner receiving a prize. Matches are quick\, competitive\, and perfect for a great evening out. \nOpen to the public so grab a friend (or two) and come enjoy some cards\, laughs\, and a little friendly competition. But seats are limited to the first 10 players who sign up. We’re playing in the Tavern so food (and drink) is available. See you at the tables!
URL:https://islandpickle.com/event/cribbage-night-at-island-pickle/2027-04-19/
LOCATION:Island Pickle\, 51 Evergreen Circle\, Mashpee\, MA\, 02649\, United States
END:VEVENT
BEGIN:VEVENT
DTSTART;TZID=America/New_York:20270424T190000
DTEND;TZID=America/New_York:20270424T210000
DTSTAMP:20260422T223226
CREATED:20260324T214036Z
LAST-MODIFIED:20260324T214036Z
UID:10001145-1808593200-1808600400@islandpickle.com
SUMMARY:Saturday Night Live... at the Island
DESCRIPTION:Looking for something new and fun to do on a Saturday Night? Come have fun on the Island for our Saturday Night Live event! Join us for a high-energy\, open play night with music in a fun and lively social atmosphere. This is a 21+ event. Entry includes one drink ticket. Equipment rentals are available. Come learn or watch pickleball in a fun atmosphere\, hang around for food and drink! Sign up using the Island Pickle app which is located on the homepage of Island Pickle
URL:https://islandpickle.com/event/saturday-night-live-at-the-island/2027-04-24/
LOCATION:Island Pickle\, 51 Evergreen Circle\, Mashpee\, MA\, 02649\, United States
END:VEVENT
BEGIN:VEVENT
DTSTART;TZID=America/New_York:20270425T150000
DTEND;TZID=America/New_York:20270425T170000
DTSTAMP:20260422T223226
CREATED:20260421T000457Z
LAST-MODIFIED:20260421T000457Z
UID:10001672-1808665200-1808672400@islandpickle.com
SUMMARY:Pickleball for Parkinson's
DESCRIPTION:FREE Fun\, Fitness and Friendship! Instruction and supervised Open Play for individuals with Parkinson’s who are steady on their feet. Pickleball aids Parkinson’s patients by improving balance\, hand-eye coordination\, and visual-spatial awareness. Wear court shoes\, equipment provided. Contact Nat@islandpickle for more information.
URL:https://islandpickle.com/event/pickleball-for-parkinsons/2027-04-25/
LOCATION:Island Pickle\, 51 Evergreen Circle\, Mashpee\, MA\, 02649\, United States
END:VEVENT
BEGIN:VEVENT
DTSTART;TZID=America/New_York:20270426T180000
DTEND;TZID=America/New_York:20270426T200000
DTSTAMP:20260422T223226
CREATED:20260325T003704Z
LAST-MODIFIED:20260325T003704Z
UID:10001406-1808762400-1808769600@islandpickle.com
SUMMARY:Cribbage Night at Island Pickle
DESCRIPTION:Join us for a fun\, friendly and FREE Cribbage Night at Island Pickle every Monday from 6:00-8:00pm.  Open to the public and everyone is welcome. We’ll be playing a casual round-robin format where you’ll face multiple opponents and compete for the top spot of the night with the winner receiving a prize. Matches are quick\, competitive\, and perfect for a great evening out. \nOpen to the public so grab a friend (or two) and come enjoy some cards\, laughs\, and a little friendly competition. But seats are limited to the first 10 players who sign up. We’re playing in the Tavern so food (and drink) is available. See you at the tables!
URL:https://islandpickle.com/event/cribbage-night-at-island-pickle/2027-04-26/
LOCATION:Island Pickle\, 51 Evergreen Circle\, Mashpee\, MA\, 02649\, United States
END:VEVENT
BEGIN:VEVENT
DTSTART;TZID=America/New_York:20270501T190000
DTEND;TZID=America/New_York:20270501T210000
DTSTAMP:20260422T223226
CREATED:20260324T214036Z
LAST-MODIFIED:20260324T214036Z
UID:10001146-1809198000-1809205200@islandpickle.com
SUMMARY:Saturday Night Live... at the Island
DESCRIPTION:Looking for something new and fun to do on a Saturday Night? Come have fun on the Island for our Saturday Night Live event! Join us for a high-energy\, open play night with music in a fun and lively social atmosphere. This is a 21+ event. Entry includes one drink ticket. Equipment rentals are available. Come learn or watch pickleball in a fun atmosphere\, hang around for food and drink! Sign up using the Island Pickle app which is located on the homepage of Island Pickle
URL:https://islandpickle.com/event/saturday-night-live-at-the-island/2027-05-01/
LOCATION:Island Pickle\, 51 Evergreen Circle\, Mashpee\, MA\, 02649\, United States
END:VEVENT
BEGIN:VEVENT
DTSTART;TZID=America/New_York:20270502T150000
DTEND;TZID=America/New_York:20270502T170000
DTSTAMP:20260422T223226
CREATED:20260421T000457Z
LAST-MODIFIED:20260421T000457Z
UID:10001673-1809270000-1809277200@islandpickle.com
SUMMARY:Pickleball for Parkinson's
DESCRIPTION:FREE Fun\, Fitness and Friendship! Instruction and supervised Open Play for individuals with Parkinson’s who are steady on their feet. Pickleball aids Parkinson’s patients by improving balance\, hand-eye coordination\, and visual-spatial awareness. Wear court shoes\, equipment provided. Contact Nat@islandpickle for more information.
URL:https://islandpickle.com/event/pickleball-for-parkinsons/2027-05-02/
LOCATION:Island Pickle\, 51 Evergreen Circle\, Mashpee\, MA\, 02649\, United States
END:VEVENT
BEGIN:VEVENT
DTSTART;TZID=America/New_York:20270503T180000
DTEND;TZID=America/New_York:20270503T200000
DTSTAMP:20260422T223226
CREATED:20260325T003704Z
LAST-MODIFIED:20260325T003704Z
UID:10001407-1809367200-1809374400@islandpickle.com
SUMMARY:Cribbage Night at Island Pickle
DESCRIPTION:Join us for a fun\, friendly and FREE Cribbage Night at Island Pickle every Monday from 6:00-8:00pm.  Open to the public and everyone is welcome. We’ll be playing a casual round-robin format where you’ll face multiple opponents and compete for the top spot of the night with the winner receiving a prize. Matches are quick\, competitive\, and perfect for a great evening out. \nOpen to the public so grab a friend (or two) and come enjoy some cards\, laughs\, and a little friendly competition. But seats are limited to the first 10 players who sign up. We’re playing in the Tavern so food (and drink) is available. See you at the tables!
URL:https://islandpickle.com/event/cribbage-night-at-island-pickle/2027-05-03/
LOCATION:Island Pickle\, 51 Evergreen Circle\, Mashpee\, MA\, 02649\, United States
END:VEVENT
BEGIN:VEVENT
DTSTART;TZID=America/New_York:20270508T190000
DTEND;TZID=America/New_York:20270508T210000
DTSTAMP:20260422T223226
CREATED:20260324T214036Z
LAST-MODIFIED:20260324T214036Z
UID:10001147-1809802800-1809810000@islandpickle.com
SUMMARY:Saturday Night Live... at the Island
DESCRIPTION:Looking for something new and fun to do on a Saturday Night? Come have fun on the Island for our Saturday Night Live event! Join us for a high-energy\, open play night with music in a fun and lively social atmosphere. This is a 21+ event. Entry includes one drink ticket. Equipment rentals are available. Come learn or watch pickleball in a fun atmosphere\, hang around for food and drink! Sign up using the Island Pickle app which is located on the homepage of Island Pickle
URL:https://islandpickle.com/event/saturday-night-live-at-the-island/2027-05-08/
LOCATION:Island Pickle\, 51 Evergreen Circle\, Mashpee\, MA\, 02649\, United States
END:VEVENT
BEGIN:VEVENT
DTSTART;TZID=America/New_York:20270509T150000
DTEND;TZID=America/New_York:20270509T170000
DTSTAMP:20260422T223226
CREATED:20260421T000457Z
LAST-MODIFIED:20260421T000457Z
UID:10001674-1809874800-1809882000@islandpickle.com
SUMMARY:Pickleball for Parkinson's
DESCRIPTION:FREE Fun\, Fitness and Friendship! Instruction and supervised Open Play for individuals with Parkinson’s who are steady on their feet. Pickleball aids Parkinson’s patients by improving balance\, hand-eye coordination\, and visual-spatial awareness. Wear court shoes\, equipment provided. Contact Nat@islandpickle for more information.
URL:https://islandpickle.com/event/pickleball-for-parkinsons/2027-05-09/
LOCATION:Island Pickle\, 51 Evergreen Circle\, Mashpee\, MA\, 02649\, United States
END:VEVENT
BEGIN:VEVENT
DTSTART;TZID=America/New_York:20270510T180000
DTEND;TZID=America/New_York:20270510T200000
DTSTAMP:20260422T223226
CREATED:20260325T003704Z
LAST-MODIFIED:20260325T003704Z
UID:10001408-1809972000-1809979200@islandpickle.com
SUMMARY:Cribbage Night at Island Pickle
DESCRIPTION:Join us for a fun\, friendly and FREE Cribbage Night at Island Pickle every Monday from 6:00-8:00pm.  Open to the public and everyone is welcome. We’ll be playing a casual round-robin format where you’ll face multiple opponents and compete for the top spot of the night with the winner receiving a prize. Matches are quick\, competitive\, and perfect for a great evening out. \nOpen to the public so grab a friend (or two) and come enjoy some cards\, laughs\, and a little friendly competition. But seats are limited to the first 10 players who sign up. We’re playing in the Tavern so food (and drink) is available. See you at the tables!
URL:https://islandpickle.com/event/cribbage-night-at-island-pickle/2027-05-10/
LOCATION:Island Pickle\, 51 Evergreen Circle\, Mashpee\, MA\, 02649\, United States
END:VEVENT
BEGIN:VEVENT
DTSTART;TZID=America/New_York:20270515T190000
DTEND;TZID=America/New_York:20270515T210000
DTSTAMP:20260422T223226
CREATED:20260324T214036Z
LAST-MODIFIED:20260324T214036Z
UID:10001148-1810407600-1810414800@islandpickle.com
SUMMARY:Saturday Night Live... at the Island
DESCRIPTION:Looking for something new and fun to do on a Saturday Night? Come have fun on the Island for our Saturday Night Live event! Join us for a high-energy\, open play night with music in a fun and lively social atmosphere. This is a 21+ event. Entry includes one drink ticket. Equipment rentals are available. Come learn or watch pickleball in a fun atmosphere\, hang around for food and drink! Sign up using the Island Pickle app which is located on the homepage of Island Pickle
URL:https://islandpickle.com/event/saturday-night-live-at-the-island/2027-05-15/
LOCATION:Island Pickle\, 51 Evergreen Circle\, Mashpee\, MA\, 02649\, United States
END:VEVENT
BEGIN:VEVENT
DTSTART;TZID=America/New_York:20270516T150000
DTEND;TZID=America/New_York:20270516T170000
DTSTAMP:20260422T223226
CREATED:20260421T000457Z
LAST-MODIFIED:20260421T000457Z
UID:10001675-1810479600-1810486800@islandpickle.com
SUMMARY:Pickleball for Parkinson's
DESCRIPTION:FREE Fun\, Fitness and Friendship! Instruction and supervised Open Play for individuals with Parkinson’s who are steady on their feet. Pickleball aids Parkinson’s patients by improving balance\, hand-eye coordination\, and visual-spatial awareness. Wear court shoes\, equipment provided. Contact Nat@islandpickle for more information.
URL:https://islandpickle.com/event/pickleball-for-parkinsons/2027-05-16/
LOCATION:Island Pickle\, 51 Evergreen Circle\, Mashpee\, MA\, 02649\, United States
END:VEVENT
BEGIN:VEVENT
DTSTART;TZID=America/New_York:20270517T180000
DTEND;TZID=America/New_York:20270517T200000
DTSTAMP:20260422T223226
CREATED:20260325T003704Z
LAST-MODIFIED:20260325T003704Z
UID:10001409-1810576800-1810584000@islandpickle.com
SUMMARY:Cribbage Night at Island Pickle
DESCRIPTION:Join us for a fun\, friendly and FREE Cribbage Night at Island Pickle every Monday from 6:00-8:00pm.  Open to the public and everyone is welcome. We’ll be playing a casual round-robin format where you’ll face multiple opponents and compete for the top spot of the night with the winner receiving a prize. Matches are quick\, competitive\, and perfect for a great evening out. \nOpen to the public so grab a friend (or two) and come enjoy some cards\, laughs\, and a little friendly competition. But seats are limited to the first 10 players who sign up. We’re playing in the Tavern so food (and drink) is available. See you at the tables!
URL:https://islandpickle.com/event/cribbage-night-at-island-pickle/2027-05-17/
LOCATION:Island Pickle\, 51 Evergreen Circle\, Mashpee\, MA\, 02649\, United States
END:VEVENT
BEGIN:VEVENT
DTSTART;TZID=America/New_York:20270522T190000
DTEND;TZID=America/New_York:20270522T210000
DTSTAMP:20260422T223226
CREATED:20260324T214036Z
LAST-MODIFIED:20260324T214036Z
UID:10001149-1811012400-1811019600@islandpickle.com
SUMMARY:Saturday Night Live... at the Island
DESCRIPTION:Looking for something new and fun to do on a Saturday Night? Come have fun on the Island for our Saturday Night Live event! Join us for a high-energy\, open play night with music in a fun and lively social atmosphere. This is a 21+ event. Entry includes one drink ticket. Equipment rentals are available. Come learn or watch pickleball in a fun atmosphere\, hang around for food and drink! Sign up using the Island Pickle app which is located on the homepage of Island Pickle
URL:https://islandpickle.com/event/saturday-night-live-at-the-island/2027-05-22/
LOCATION:Island Pickle\, 51 Evergreen Circle\, Mashpee\, MA\, 02649\, United States
END:VEVENT
BEGIN:VEVENT
DTSTART;TZID=America/New_York:20270523T150000
DTEND;TZID=America/New_York:20270523T170000
DTSTAMP:20260422T223226
CREATED:20260421T000457Z
LAST-MODIFIED:20260421T000457Z
UID:10001676-1811084400-1811091600@islandpickle.com
SUMMARY:Pickleball for Parkinson's
DESCRIPTION:FREE Fun\, Fitness and Friendship! Instruction and supervised Open Play for individuals with Parkinson’s who are steady on their feet. Pickleball aids Parkinson’s patients by improving balance\, hand-eye coordination\, and visual-spatial awareness. Wear court shoes\, equipment provided. Contact Nat@islandpickle for more information.
URL:https://islandpickle.com/event/pickleball-for-parkinsons/2027-05-23/
LOCATION:Island Pickle\, 51 Evergreen Circle\, Mashpee\, MA\, 02649\, United States
END:VEVENT
BEGIN:VEVENT
DTSTART;TZID=America/New_York:20270524T180000
DTEND;TZID=America/New_York:20270524T200000
DTSTAMP:20260422T223226
CREATED:20260325T003704Z
LAST-MODIFIED:20260325T003704Z
UID:10001410-1811181600-1811188800@islandpickle.com
SUMMARY:Cribbage Night at Island Pickle
DESCRIPTION:Join us for a fun\, friendly and FREE Cribbage Night at Island Pickle every Monday from 6:00-8:00pm.  Open to the public and everyone is welcome. We’ll be playing a casual round-robin format where you’ll face multiple opponents and compete for the top spot of the night with the winner receiving a prize. Matches are quick\, competitive\, and perfect for a great evening out. \nOpen to the public so grab a friend (or two) and come enjoy some cards\, laughs\, and a little friendly competition. But seats are limited to the first 10 players who sign up. We’re playing in the Tavern so food (and drink) is available. See you at the tables!
URL:https://islandpickle.com/event/cribbage-night-at-island-pickle/2027-05-24/
LOCATION:Island Pickle\, 51 Evergreen Circle\, Mashpee\, MA\, 02649\, United States
END:VEVENT
BEGIN:VEVENT
DTSTART;TZID=America/New_York:20270529T190000
DTEND;TZID=America/New_York:20270529T210000
DTSTAMP:20260422T223226
CREATED:20260324T214036Z
LAST-MODIFIED:20260324T214036Z
UID:10001150-1811617200-1811624400@islandpickle.com
SUMMARY:Saturday Night Live... at the Island
DESCRIPTION:Looking for something new and fun to do on a Saturday Night? Come have fun on the Island for our Saturday Night Live event! Join us for a high-energy\, open play night with music in a fun and lively social atmosphere. This is a 21+ event. Entry includes one drink ticket. Equipment rentals are available. Come learn or watch pickleball in a fun atmosphere\, hang around for food and drink! Sign up using the Island Pickle app which is located on the homepage of Island Pickle
URL:https://islandpickle.com/event/saturday-night-live-at-the-island/2027-05-29/
LOCATION:Island Pickle\, 51 Evergreen Circle\, Mashpee\, MA\, 02649\, United States
END:VEVENT
BEGIN:VEVENT
DTSTART;TZID=America/New_York:20270530T150000
DTEND;TZID=America/New_York:20270530T170000
DTSTAMP:20260422T223226
CREATED:20260421T000457Z
LAST-MODIFIED:20260421T000457Z
UID:10001677-1811689200-1811696400@islandpickle.com
SUMMARY:Pickleball for Parkinson's
DESCRIPTION:FREE Fun\, Fitness and Friendship! Instruction and supervised Open Play for individuals with Parkinson’s who are steady on their feet. Pickleball aids Parkinson’s patients by improving balance\, hand-eye coordination\, and visual-spatial awareness. Wear court shoes\, equipment provided. Contact Nat@islandpickle for more information.
URL:https://islandpickle.com/event/pickleball-for-parkinsons/2027-05-30/
LOCATION:Island Pickle\, 51 Evergreen Circle\, Mashpee\, MA\, 02649\, United States
END:VEVENT
BEGIN:VEVENT
DTSTART;TZID=America/New_York:20270531T180000
DTEND;TZID=America/New_York:20270531T200000
DTSTAMP:20260422T223226
CREATED:20260325T003704Z
LAST-MODIFIED:20260325T003704Z
UID:10001411-1811786400-1811793600@islandpickle.com
SUMMARY:Cribbage Night at Island Pickle
DESCRIPTION:Join us for a fun\, friendly and FREE Cribbage Night at Island Pickle every Monday from 6:00-8:00pm.  Open to the public and everyone is welcome. We’ll be playing a casual round-robin format where you’ll face multiple opponents and compete for the top spot of the night with the winner receiving a prize. Matches are quick\, competitive\, and perfect for a great evening out. \nOpen to the public so grab a friend (or two) and come enjoy some cards\, laughs\, and a little friendly competition. But seats are limited to the first 10 players who sign up. We’re playing in the Tavern so food (and drink) is available. See you at the tables!
URL:https://islandpickle.com/event/cribbage-night-at-island-pickle/2027-05-31/
LOCATION:Island Pickle\, 51 Evergreen Circle\, Mashpee\, MA\, 02649\, United States
END:VEVENT
BEGIN:VEVENT
DTSTART;TZID=America/New_York:20270605T190000
DTEND;TZID=America/New_York:20270605T210000
DTSTAMP:20260422T223226
CREATED:20260324T214036Z
LAST-MODIFIED:20260324T214036Z
UID:10001151-1812222000-1812229200@islandpickle.com
SUMMARY:Saturday Night Live... at the Island
DESCRIPTION:Looking for something new and fun to do on a Saturday Night? Come have fun on the Island for our Saturday Night Live event! Join us for a high-energy\, open play night with music in a fun and lively social atmosphere. This is a 21+ event. Entry includes one drink ticket. Equipment rentals are available. Come learn or watch pickleball in a fun atmosphere\, hang around for food and drink! Sign up using the Island Pickle app which is located on the homepage of Island Pickle
URL:https://islandpickle.com/event/saturday-night-live-at-the-island/2027-06-05/
LOCATION:Island Pickle\, 51 Evergreen Circle\, Mashpee\, MA\, 02649\, United States
END:VEVENT
BEGIN:VEVENT
DTSTART;TZID=America/New_York:20270606T150000
DTEND;TZID=America/New_York:20270606T170000
DTSTAMP:20260422T223226
CREATED:20260421T000457Z
LAST-MODIFIED:20260421T000457Z
UID:10001678-1812294000-1812301200@islandpickle.com
SUMMARY:Pickleball for Parkinson's
DESCRIPTION:FREE Fun\, Fitness and Friendship! Instruction and supervised Open Play for individuals with Parkinson’s who are steady on their feet. Pickleball aids Parkinson’s patients by improving balance\, hand-eye coordination\, and visual-spatial awareness. Wear court shoes\, equipment provided. Contact Nat@islandpickle for more information.
URL:https://islandpickle.com/event/pickleball-for-parkinsons/2027-06-06/
LOCATION:Island Pickle\, 51 Evergreen Circle\, Mashpee\, MA\, 02649\, United States
END:VEVENT
BEGIN:VEVENT
DTSTART;TZID=America/New_York:20270607T180000
DTEND;TZID=America/New_York:20270607T200000
DTSTAMP:20260422T223226
CREATED:20260325T003704Z
LAST-MODIFIED:20260325T003704Z
UID:10001412-1812391200-1812398400@islandpickle.com
SUMMARY:Cribbage Night at Island Pickle
DESCRIPTION:Join us for a fun\, friendly and FREE Cribbage Night at Island Pickle every Monday from 6:00-8:00pm.  Open to the public and everyone is welcome. We’ll be playing a casual round-robin format where you’ll face multiple opponents and compete for the top spot of the night with the winner receiving a prize. Matches are quick\, competitive\, and perfect for a great evening out. \nOpen to the public so grab a friend (or two) and come enjoy some cards\, laughs\, and a little friendly competition. But seats are limited to the first 10 players who sign up. We’re playing in the Tavern so food (and drink) is available. See you at the tables!
URL:https://islandpickle.com/event/cribbage-night-at-island-pickle/2027-06-07/
LOCATION:Island Pickle\, 51 Evergreen Circle\, Mashpee\, MA\, 02649\, United States
END:VEVENT
BEGIN:VEVENT
DTSTART;TZID=America/New_York:20270612T190000
DTEND;TZID=America/New_York:20270612T210000
DTSTAMP:20260422T223226
CREATED:20260324T214036Z
LAST-MODIFIED:20260324T214036Z
UID:10001152-1812826800-1812834000@islandpickle.com
SUMMARY:Saturday Night Live... at the Island
DESCRIPTION:Looking for something new and fun to do on a Saturday Night? Come have fun on the Island for our Saturday Night Live event! Join us for a high-energy\, open play night with music in a fun and lively social atmosphere. This is a 21+ event. Entry includes one drink ticket. Equipment rentals are available. Come learn or watch pickleball in a fun atmosphere\, hang around for food and drink! Sign up using the Island Pickle app which is located on the homepage of Island Pickle
URL:https://islandpickle.com/event/saturday-night-live-at-the-island/2027-06-12/
LOCATION:Island Pickle\, 51 Evergreen Circle\, Mashpee\, MA\, 02649\, United States
END:VEVENT
BEGIN:VEVENT
DTSTART;TZID=America/New_York:20270613T150000
DTEND;TZID=America/New_York:20270613T170000
DTSTAMP:20260422T223226
CREATED:20260421T000457Z
LAST-MODIFIED:20260421T000457Z
UID:10001679-1812898800-1812906000@islandpickle.com
SUMMARY:Pickleball for Parkinson's
DESCRIPTION:FREE Fun\, Fitness and Friendship! Instruction and supervised Open Play for individuals with Parkinson’s who are steady on their feet. Pickleball aids Parkinson’s patients by improving balance\, hand-eye coordination\, and visual-spatial awareness. Wear court shoes\, equipment provided. Contact Nat@islandpickle for more information.
URL:https://islandpickle.com/event/pickleball-for-parkinsons/2027-06-13/
LOCATION:Island Pickle\, 51 Evergreen Circle\, Mashpee\, MA\, 02649\, United States
END:VEVENT
BEGIN:VEVENT
DTSTART;TZID=America/New_York:20270614T180000
DTEND;TZID=America/New_York:20270614T200000
DTSTAMP:20260422T223226
CREATED:20260325T003704Z
LAST-MODIFIED:20260325T003704Z
UID:10001413-1812996000-1813003200@islandpickle.com
SUMMARY:Cribbage Night at Island Pickle
DESCRIPTION:Join us for a fun\, friendly and FREE Cribbage Night at Island Pickle every Monday from 6:00-8:00pm.  Open to the public and everyone is welcome. We’ll be playing a casual round-robin format where you’ll face multiple opponents and compete for the top spot of the night with the winner receiving a prize. Matches are quick\, competitive\, and perfect for a great evening out. \nOpen to the public so grab a friend (or two) and come enjoy some cards\, laughs\, and a little friendly competition. But seats are limited to the first 10 players who sign up. We’re playing in the Tavern so food (and drink) is available. See you at the tables!
URL:https://islandpickle.com/event/cribbage-night-at-island-pickle/2027-06-14/
LOCATION:Island Pickle\, 51 Evergreen Circle\, Mashpee\, MA\, 02649\, United States
END:VEVENT
BEGIN:VEVENT
DTSTART;TZID=America/New_York:20270619T190000
DTEND;TZID=America/New_York:20270619T210000
DTSTAMP:20260422T223226
CREATED:20260324T214036Z
LAST-MODIFIED:20260324T214036Z
UID:10001153-1813431600-1813438800@islandpickle.com
SUMMARY:Saturday Night Live... at the Island
DESCRIPTION:Looking for something new and fun to do on a Saturday Night? Come have fun on the Island for our Saturday Night Live event! Join us for a high-energy\, open play night with music in a fun and lively social atmosphere. This is a 21+ event. Entry includes one drink ticket. Equipment rentals are available. Come learn or watch pickleball in a fun atmosphere\, hang around for food and drink! Sign up using the Island Pickle app which is located on the homepage of Island Pickle
URL:https://islandpickle.com/event/saturday-night-live-at-the-island/2027-06-19/
LOCATION:Island Pickle\, 51 Evergreen Circle\, Mashpee\, MA\, 02649\, United States
END:VEVENT
BEGIN:VEVENT
DTSTART;TZID=America/New_York:20270620T150000
DTEND;TZID=America/New_York:20270620T170000
DTSTAMP:20260422T223226
CREATED:20260421T000457Z
LAST-MODIFIED:20260421T000457Z
UID:10001680-1813503600-1813510800@islandpickle.com
SUMMARY:Pickleball for Parkinson's
DESCRIPTION:FREE Fun\, Fitness and Friendship! Instruction and supervised Open Play for individuals with Parkinson’s who are steady on their feet. Pickleball aids Parkinson’s patients by improving balance\, hand-eye coordination\, and visual-spatial awareness. Wear court shoes\, equipment provided. Contact Nat@islandpickle for more information.
URL:https://islandpickle.com/event/pickleball-for-parkinsons/2027-06-20/
LOCATION:Island Pickle\, 51 Evergreen Circle\, Mashpee\, MA\, 02649\, United States
END:VEVENT
BEGIN:VEVENT
DTSTART;TZID=America/New_York:20270621T180000
DTEND;TZID=America/New_York:20270621T200000
DTSTAMP:20260422T223226
CREATED:20260325T003704Z
LAST-MODIFIED:20260325T003704Z
UID:10001414-1813600800-1813608000@islandpickle.com
SUMMARY:Cribbage Night at Island Pickle
DESCRIPTION:Join us for a fun\, friendly and FREE Cribbage Night at Island Pickle every Monday from 6:00-8:00pm.  Open to the public and everyone is welcome. We’ll be playing a casual round-robin format where you’ll face multiple opponents and compete for the top spot of the night with the winner receiving a prize. Matches are quick\, competitive\, and perfect for a great evening out. \nOpen to the public so grab a friend (or two) and come enjoy some cards\, laughs\, and a little friendly competition. But seats are limited to the first 10 players who sign up. We’re playing in the Tavern so food (and drink) is available. See you at the tables!
URL:https://islandpickle.com/event/cribbage-night-at-island-pickle/2027-06-21/
LOCATION:Island Pickle\, 51 Evergreen Circle\, Mashpee\, MA\, 02649\, United States
END:VEVENT
END:VCALENDAR